BEGIN:VCALENDAR
VERSION:2.0
PRODID:-//www.thearcfamilyinstitute.org//NONSGML kigkonsult.se iCalcreator 
 2.30.10//
CALSCALE:GREGORIAN
METHOD:PUBLISH
UID:c4ff6f0a-e403-47e4-9067-50397d3b5c5d
X-WR-CALDESC:SiblingResources.org has been launched through an exciting col
 laboration between Yang-Tan Institute of Cornell University\, The Sibling 
 Leadership Network\, and SibsNY. Through a grant from NYSDDPC\, we are bui
 lding the community for adult siblings of individuals with disabilities in
  NY.
X-WR-RELCALID:a1279fb7491ce5dd2c62ba1da348d78a
X-WR-TIMEZONE:America/New_York
BEGIN:VTIMEZONE
TZID:America/New_York
BEGIN:STANDARD
TZNAME:EST
DTSTART:20161106T020000
TZOFFSETFROM:-0400
TZOFFSETTO:-0500
RDATE:20171105T020000
END:STANDARD
BEGIN:DAYLIGHT
TZNAME:EDT
DTSTART:20160313T020000
TZOFFSETFROM:-0500
TZOFFSETTO:-0400
RDATE:20170312T020000
RDATE:20180311T020000
END:DAYLIGHT
END:VTIMEZONE
BEGIN:VEVENT
UID:a2e1f3e6-5359-4071-9f33-b9aae14999ae
DTSTAMP:20260424T152712Z
DESCRIPTION:SiblingResources.org has been launched through an exciting coll
 aboration between Yang-Tan Institute of Cornell University\, The Sibling L
 eadership Network\, and SibsNY. Through a grant from NYSDDPC\, we are buil
 ding the community for adult siblings of individuals with disabilities in 
 NY.
DTSTART;TZID=America/New_York:20170112T120000
DTEND;TZID=America/New_York:20170112T130000
LOCATION:
SUMMARY:Webinar: For Professionals - Engaging and Supporting Siblings of Pe
 ople with I/DD
END:VEVENT
END:VCALENDAR
