BEGIN:VCALENDAR
VERSION:2.0
PRODID:-//www.thearcfamilyinstitute.org//NONSGML kigkonsult.se iCalcreator 
 2.30.10//
CALSCALE:GREGORIAN
METHOD:PUBLISH
UID:20cd304e-3ae6-40e4-a87e-8fc721dff419
X-WR-CALDESC:Employment is the key to fulfilling so many of our dreams.  As
  an Employment First state\, the NJ Division of Developmental Disabilities
  (DDD) is working to ensure that competitive employment in the general wor
 kforce is the first and preferred post education outcome for all people wi
 th disabilities. This presentation explains the value of working in an int
 egrated\, competitive setting &amp\; provides information about ways to ac
 cess DDD-funded employment services/supports through the Supports Program.
 \n\nChristine James: Assistant Division Director\; Div. of Developmental D
 isabilities\n\nJoseph Guarracino: Rehab Counselor 2\; NJ Division of Vocat
 ional Services \n\nValues into Action\, NJ: Support Coordination Agency Va
 lues into Action is leading the way for the next generation of services\, 
 in partnership with people\, their families\, and communities.
X-WR-RELCALID:3254cb91ea6551ad8870ddad011979fa
X-WR-TIMEZONE:America/New_York
BEGIN:VTIMEZONE
TZID:America/New_York
BEGIN:STANDARD
TZNAME:EST
DTSTART:20161106T020000
TZOFFSETFROM:-0400
TZOFFSETTO:-0500
RDATE:20171105T020000
END:STANDARD
BEGIN:DAYLIGHT
TZNAME:EDT
DTSTART:20160313T020000
TZOFFSETFROM:-0500
TZOFFSETTO:-0400
RDATE:20170312T020000
RDATE:20180311T020000
END:DAYLIGHT
END:VTIMEZONE
BEGIN:VEVENT
UID:192aa0af-f8b2-44f3-8eed-0949de38ed1c
DTSTAMP:20260424T150618Z
DESCRIPTION:Employment is the key to fulfilling so many of our dreams.  As 
 an Employment First state\, the NJ Division of Developmental Disabilities 
 (DDD) is working to ensure that competitive employment in the general work
 force is the first and preferred post education outcome for all people wit
 h disabilities. This presentation explains the value of working in an inte
 grated\, competitive setting &amp\; provides information about ways to acc
 ess DDD-funded employment services/supports through the Supports Program.
 \n\nChristine James: Assistant Division Director\; Div. of Developmental D
 isabilities\n\nJoseph Guarracino: Rehab Counselor 2\; NJ Division of Vocat
 ional Services \n\nValues into Action\, NJ: Support Coordination Agency Va
 lues into Action is leading the way for the next generation of services\, 
 in partnership with people\, their families\, and communities.
DTSTART;TZID=America/New_York:20170109T183000
DTEND;TZID=America/New_York:20170109T193000
LOCATION:Jackson Liberty High School\; IMC  125 North Hope Chapel Road  Jac
 kson\, NJ08527
SUMMARY:Life After School
END:VEVENT
END:VCALENDAR
