BEGIN:VCALENDAR
VERSION:2.0
PRODID:-//www.thearcfamilyinstitute.org//NONSGML kigkonsult.se iCalcreator 
 2.30.10//
CALSCALE:GREGORIAN
METHOD:PUBLISH
UID:e7637458-7b36-447e-b2c7-773c266e192c
X-WR-CALDESC:This hour long webinar will provide an overview of the assessm
 ent process as it applies to this population\, including a review of the A
 RMIDILO-S assessment and management tool. \n\nOur speaker\, Dr. Jeffery Al
 len\, will discuss the questions that should be asked by professionals in 
 the criminal justice system\, that request assessments to determine an ind
 ividual's future risk to reoffend. Questions such as: What are the risk fa
 ctors? What are the protective factors?  What can be done to manage behavi
 or for people with intellectual and developmental disabilities?\n\nThis we
 binar series is brought to you by The Arc of NJ Criminal Justice Advocacy 
 Program in partnership with New Jersey Association for Treatment and Sexua
 l Abusers\; made possible by the NJ State Bar Foundation with funding from
  the IOLTA fund of the Bar New Jersey. For additional information about th
 e Foundation's other law related activities\, please call 1-800-FREELAW.
X-WR-RELCALID:414efedeeb4df0a08a85e2f894ecf8a8
X-WR-TIMEZONE:America/New_York
BEGIN:VTIMEZONE
TZID:America/New_York
BEGIN:STANDARD
TZNAME:EST
DTSTART:20161106T020000
TZOFFSETFROM:-0400
TZOFFSETTO:-0500
RDATE:20171105T020000
END:STANDARD
BEGIN:DAYLIGHT
TZNAME:EDT
DTSTART:20160313T020000
TZOFFSETFROM:-0500
TZOFFSETTO:-0400
RDATE:20170312T020000
RDATE:20180311T020000
END:DAYLIGHT
END:VTIMEZONE
BEGIN:VEVENT
UID:a435bcf0-a310-406a-9f00-74616d226c85
DTSTAMP:20260424T165912Z
DESCRIPTION:This hour long webinar will provide an overview of the assessme
 nt process as it applies to this population\, including a review of the AR
 MIDILO-S assessment and management tool. \n\nOur speaker\, Dr. Jeffery All
 en\, will discuss the questions that should be asked by professionals in t
 he criminal justice system\, that request assessments to determine an indi
 vidual's future risk to reoffend. Questions such as: What are the risk fac
 tors? What are the protective factors?  What can be done to manage behavio
 r for people with intellectual and developmental disabilities?\n\nThis web
 inar series is brought to you by The Arc of NJ Criminal Justice Advocacy P
 rogram in partnership with New Jersey Association for Treatment and Sexual
  Abusers\; made possible by the NJ State Bar Foundation with funding from 
 the IOLTA fund of the Bar New Jersey. For additional information about the
  Foundation's other law related activities\, please call 1-800-FREELAW.
DTSTART;TZID=America/New_York:20161222T130000
DTEND;TZID=America/New_York:20161222T140000
LOCATION:
SUMMARY:Webinar: The Request for an Assessment of Risk: What does it Mean a
 nd How Can It be Accomplished for Individuals with I/DD
END:VEVENT
END:VCALENDAR
