BEGIN:VCALENDAR
VERSION:2.0
PRODID:-//www.thearcfamilyinstitute.org//NONSGML kigkonsult.se iCalcreator 
 2.30.10//
CALSCALE:GREGORIAN
METHOD:PUBLISH
UID:d00fc811-c425-4c93-8411-3fa57bd59fe1
X-WR-CALDESC:
X-WR-RELCALID:0e9da6d9562176247cd2ca22e12c0f52
X-WR-TIMEZONE:America/New_York
BEGIN:VTIMEZONE
TZID:America/New_York
BEGIN:STANDARD
TZNAME:EST
DTSTART:20161106T020000
TZOFFSETFROM:-0400
TZOFFSETTO:-0500
RDATE:20171105T020000
END:STANDARD
BEGIN:DAYLIGHT
TZNAME:EDT
DTSTART:20160313T020000
TZOFFSETFROM:-0500
TZOFFSETTO:-0400
RDATE:20170312T020000
RDATE:20180311T020000
END:DAYLIGHT
END:VTIMEZONE
BEGIN:VEVENT
UID:902e216f-5122-411c-8a77-ed582fbfa23e
DTSTAMP:20260424T163732Z
DESCRIPTION:
DTSTART;TZID=America/New_York:20161214T180000
DTEND;TZID=America/New_York:20161214T210000
LOCATION:Hunterdon Central Regional High School - 11/12 Commons
SUMMARY:Transition Provider Fair (Hunterdon County)
END:VEVENT
END:VCALENDAR
