BEGIN:VCALENDAR
VERSION:2.0
PRODID:-//www.thearcfamilyinstitute.org//NONSGML kigkonsult.se iCalcreator 
 2.30.10//
CALSCALE:GREGORIAN
METHOD:PUBLISH
UID:fe9f919a-8b6f-468c-a262-e8337ddcd666
X-WR-CALDESC:
X-WR-RELCALID:cfd999797c6b05e5bce45e9cd785e980
X-WR-TIMEZONE:America/New_York
BEGIN:VTIMEZONE
TZID:America/New_York
BEGIN:STANDARD
TZNAME:EST
DTSTART:20161106T020000
TZOFFSETFROM:-0400
TZOFFSETTO:-0500
RDATE:20171105T020000
END:STANDARD
BEGIN:DAYLIGHT
TZNAME:EDT
DTSTART:20160313T020000
TZOFFSETFROM:-0500
TZOFFSETTO:-0400
RDATE:20170312T020000
RDATE:20180311T020000
END:DAYLIGHT
END:VTIMEZONE
BEGIN:VEVENT
UID:f93e2f98-a3af-426d-9815-af82ebe6f239
DTSTAMP:20260424T163344Z
DESCRIPTION:
DTSTART;TZID=America/New_York:20161213T180000
DTEND;TZID=America/New_York:20161213T200000
LOCATION:Montgomery Academy\, 188 Mt Airy Rd\, Basking Ridge\, NJ 07920
SUMMARY:Parent Network Night & Provider Fair
END:VEVENT
END:VCALENDAR
