BEGIN:VCALENDAR
VERSION:2.0
PRODID:-//www.thearcfamilyinstitute.org//NONSGML kigkonsult.se iCalcreator 
 2.30.10//
CALSCALE:GREGORIAN
METHOD:PUBLISH
UID:4cd2492a-e459-4a81-b6bf-fa592d7e6af3
X-WR-CALDESC:
X-WR-RELCALID:e3b518f12625d5db9587824f3866ab82
X-WR-TIMEZONE:America/New_York
BEGIN:VTIMEZONE
TZID:America/New_York
BEGIN:STANDARD
TZNAME:EST
DTSTART:20161106T020000
TZOFFSETFROM:-0400
TZOFFSETTO:-0500
RDATE:20171105T020000
END:STANDARD
BEGIN:DAYLIGHT
TZNAME:EDT
DTSTART:20160313T020000
TZOFFSETFROM:-0500
TZOFFSETTO:-0400
RDATE:20170312T020000
RDATE:20180311T020000
END:DAYLIGHT
END:VTIMEZONE
BEGIN:VEVENT
UID:ede99154-2903-4c44-9bdc-64fd1f248785
DTSTAMP:20260424T162942Z
DESCRIPTION:
DTSTART;TZID=America/New_York:20161211T113000
DTEND;TZID=America/New_York:20161211T130000
LOCATION:
SUMMARY:Sibling Support
END:VEVENT
END:VCALENDAR
