BEGIN:VCALENDAR
VERSION:2.0
PRODID:-//www.thearcfamilyinstitute.org//NONSGML kigkonsult.se iCalcreator 
 2.30.10//
CALSCALE:GREGORIAN
METHOD:PUBLISH
UID:c59211f4-49d8-47fc-8aaf-327d4ff3d54f
X-WR-CALDESC:lease see below and the attachment for information on a free t
 raining provided by the Trinitas Regional Medical Center's CARES program: 
  Introduction to Intensive Systems Therapy\, a cognitive behavior therapy 
 model for treatment of volatile behavior in individuals with I/DD.  The tr
 aining will be held on Tuesday\, Dec. 6th from 10 am to 2 pm at the Glouce
 ster County Library.   Social workers will receive 4 Contact Hours.\n\nThe
  training is free\, but RSVPs are required.
X-WR-RELCALID:a70228a95897ecf54e13de71b8a4efa7
X-WR-TIMEZONE:America/New_York
BEGIN:VTIMEZONE
TZID:America/New_York
BEGIN:STANDARD
TZNAME:EST
DTSTART:20161106T020000
TZOFFSETFROM:-0400
TZOFFSETTO:-0500
RDATE:20171105T020000
END:STANDARD
BEGIN:DAYLIGHT
TZNAME:EDT
DTSTART:20160313T020000
TZOFFSETFROM:-0500
TZOFFSETTO:-0400
RDATE:20170312T020000
RDATE:20180311T020000
END:DAYLIGHT
END:VTIMEZONE
BEGIN:VEVENT
UID:ffe7f976-83db-4124-9d34-458e708b2fd3
DTSTAMP:20260424T163448Z
DESCRIPTION:lease see below and the attachment for information on a free tr
 aining provided by the Trinitas Regional Medical Center's CARES program:  
 Introduction to Intensive Systems Therapy\, a cognitive behavior therapy m
 odel for treatment of volatile behavior in individuals with I/DD.  The tra
 ining will be held on Tuesday\, Dec. 6th from 10 am to 2 pm at the Glouces
 ter County Library.   Social workers will receive 4 Contact Hours.\n\nThe 
 training is free\, but RSVPs are required.
DTSTART;TZID=America/New_York:20161206T110000
DTEND;TZID=America/New_York:20161206T120000
LOCATION:Gloucester County Library
SUMMARY:Continuing Education Credits: Introduction To Intensive Systems The
 rapy
END:VEVENT
END:VCALENDAR
