BEGIN:VCALENDAR
VERSION:2.0
PRODID:-//www.thearcfamilyinstitute.org//NONSGML kigkonsult.se iCalcreator 
 2.30.10//
CALSCALE:GREGORIAN
METHOD:PUBLISH
UID:567bac9d-ff39-4dc6-a98c-e750dd61cd48
X-WR-CALDESC:Calling all college prospects with intellectual or development
 al disabilities\, and their families.\n\nJoin The Arc of New Jersey Family
  Institute for a tour of The Achievement Center at Raritan Valley Communit
 y College (RVCC)\; a partnership program of The Arc of Somerset and Hunter
 don Counties and RVCC. You will have an opportunity to visit the campus an
 d learn about the different aspects of the college experience. The Achieve
 ment Center program is student centered\, with a recommendation of core sk
 ills classes important to future success. Students and families will learn
  about the curriculum\, support methods and individualization for each stu
 dent’s needs and goals. Space is limited to 20 families. \n\nAreas of stud
 y include: \nAcademic\, Personal and Career Development\, Campus and Civic
  Engagement and Social Skill Building.
X-WR-RELCALID:6083bbac788d24f923cd1ac9b57fad5d
X-WR-TIMEZONE:America/New_York
BEGIN:VTIMEZONE
TZID:America/New_York
BEGIN:STANDARD
TZNAME:EST
DTSTART:20161106T020000
TZOFFSETFROM:-0400
TZOFFSETTO:-0500
RDATE:20171105T020000
END:STANDARD
BEGIN:DAYLIGHT
TZNAME:EDT
DTSTART:20160313T020000
TZOFFSETFROM:-0500
TZOFFSETTO:-0400
RDATE:20170312T020000
RDATE:20180311T020000
END:DAYLIGHT
END:VTIMEZONE
BEGIN:VEVENT
UID:051160b0-b14b-445f-b79f-28569c977191
DTSTAMP:20260424T165857Z
DESCRIPTION:Calling all college prospects with intellectual or developmenta
 l disabilities\, and their families.\n\nJoin The Arc of New Jersey Family 
 Institute for a tour of The Achievement Center at Raritan Valley Community
  College (RVCC)\; a partnership program of The Arc of Somerset and Hunterd
 on Counties and RVCC. You will have an opportunity to visit the campus and
  learn about the different aspects of the college experience. The Achievem
 ent Center program is student centered\, with a recommendation of core ski
 lls classes important to future success. Students and families will learn 
 about the curriculum\, support methods and individualization for each stud
 ent’s needs and goals. Space is limited to 20 families. \n\nAreas of study
  include: \nAcademic\, Personal and Career Development\, Campus and Civic 
 Engagement and Social Skill Building.
DTSTART;TZID=America/New_York:20161203T100000
DTEND;TZID=America/New_York:20161203T123000
LOCATION:Raritan Valley Community College\, Arts Building\, Room A-25\, 118
  Lamington Road\, Branchburg\, New Jersey 08876
SUMMARY:Raritan Valley Community College Tour
END:VEVENT
END:VCALENDAR
