BEGIN:VCALENDAR
VERSION:2.0
PRODID:-//www.thearcfamilyinstitute.org//NONSGML kigkonsult.se iCalcreator 
 2.30.10//
CALSCALE:GREGORIAN
METHOD:PUBLISH
UID:ce0f2410-7109-4c51-ad8b-a73f3f30869c
X-WR-CALDESC:This one hour webinar will discuss the issues which arise when
  individuals with intellectual and developmental disabilities exhibit inap
 propriate sexual behaviors. These behaviors can adversely affect the commu
 nity and the quality of life for the individual. Law enforcement and socia
 l service agencies struggle with understanding and balancing sexual expres
 sion\, inappropriate sexual behavior and the safety of the community. \n\n
 Our speaker\, Dr. Robin Wilson\, will examine the vulnerability of individ
 uals with I/DD to inappropriate sexual behavior which can lead to their be
 coming suspects or victims. He will also discuss the many unique factors t
 hat come into play when protecting and supporting individuals in the commu
 nity. Dr. Wilson has a long and distinguished career working with this pop
 ulation\, and will provide an insightful overview addressing the specific 
 needs of people with I/DD while supporting them safely in the community. 
 \n\nThis webinar series is brought to you by The Arc of NJ Criminal Justic
 e Advocacy Program in partnership with New Jersey Association for Treatmen
 t and Sexual Abusers\; made possible by the NJ State Bar Foundation with f
 unding from the IOLTA fund of the Bar New Jersey. For additional informati
 on about the Foundation’s other law related activities\, please call 1-800
 -FREELAW.
X-WR-RELCALID:f2cbed544c53a9d2d78b534b9dd9dc6a
X-WR-TIMEZONE:America/New_York
BEGIN:VTIMEZONE
TZID:America/New_York
BEGIN:STANDARD
TZNAME:EST
DTSTART:20161106T020000
TZOFFSETFROM:-0400
TZOFFSETTO:-0500
RDATE:20171105T020000
END:STANDARD
BEGIN:DAYLIGHT
TZNAME:EDT
DTSTART:20160313T020000
TZOFFSETFROM:-0500
TZOFFSETTO:-0400
RDATE:20170312T020000
RDATE:20180311T020000
END:DAYLIGHT
END:VTIMEZONE
BEGIN:VEVENT
UID:e8f6a477-d479-4d05-8370-ec8d5fe98c13
DTSTAMP:20260424T165541Z
DESCRIPTION:This one hour webinar will discuss the issues which arise when 
 individuals with intellectual and developmental disabilities exhibit inapp
 ropriate sexual behaviors. These behaviors can adversely affect the commun
 ity and the quality of life for the individual. Law enforcement and social
  service agencies struggle with understanding and balancing sexual express
 ion\, inappropriate sexual behavior and the safety of the community. \n\nO
 ur speaker\, Dr. Robin Wilson\, will examine the vulnerability of individu
 als with I/DD to inappropriate sexual behavior which can lead to their bec
 oming suspects or victims. He will also discuss the many unique factors th
 at come into play when protecting and supporting individuals in the commun
 ity. Dr. Wilson has a long and distinguished career working with this popu
 lation\, and will provide an insightful overview addressing the specific n
 eeds of people with I/DD while supporting them safely in the community. \n
 \nThis webinar series is brought to you by The Arc of NJ Criminal Justice 
 Advocacy Program in partnership with New Jersey Association for Treatment 
 and Sexual Abusers\; made possible by the NJ State Bar Foundation with fun
 ding from the IOLTA fund of the Bar New Jersey. For additional information
  about the Foundation’s other law related activities\, please call 1-800-F
 REELAW.
DTSTART;TZID=America/New_York:20161201T130000
DTEND;TZID=America/New_York:20161201T140000
LOCATION:
SUMMARY:Webinar: People with Intellectual Disabilities and Sexual Behavior 
 Problems: A Criminal Justice and Community Support Approach
END:VEVENT
END:VCALENDAR
