BEGIN:VCALENDAR
VERSION:2.0
PRODID:-//www.thearcfamilyinstitute.org//NONSGML kigkonsult.se iCalcreator 
 2.30.10//
CALSCALE:GREGORIAN
METHOD:PUBLISH
UID:a4ca2d23-5886-4a25-a8e1-77ddedc5570d
X-WR-CALDESC:
X-WR-RELCALID:f6e54c2c5d44d8fc8ab91934682dd467
X-WR-TIMEZONE:America/New_York
BEGIN:VTIMEZONE
TZID:America/New_York
BEGIN:STANDARD
TZNAME:EST
DTSTART:20161106T020000
TZOFFSETFROM:-0400
TZOFFSETTO:-0500
RDATE:20171105T020000
END:STANDARD
BEGIN:DAYLIGHT
TZNAME:EDT
DTSTART:20160313T020000
TZOFFSETFROM:-0500
TZOFFSETTO:-0400
RDATE:20170312T020000
RDATE:20180311T020000
END:DAYLIGHT
END:VTIMEZONE
BEGIN:VEVENT
UID:c1ca78c3-5405-4e37-beee-eddcc8fdc0cc
DTSTAMP:20260424T165903Z
DESCRIPTION:
DTSTART;TZID=America/New_York:20161201T180000
DTEND;TZID=America/New_York:20161201T200000
LOCATION:92 West Main Street\, Freehold\, 07728
SUMMARY:Family Justice Series: What Every Family Should Know
END:VEVENT
END:VCALENDAR
