BEGIN:VCALENDAR
VERSION:2.0
PRODID:-//www.thearcfamilyinstitute.org//NONSGML kigkonsult.se iCalcreator 
 2.30.10//
CALSCALE:GREGORIAN
METHOD:PUBLISH
UID:77f1c857-6720-409e-9c65-54cd3ce11f7b
X-WR-CALDESC:
X-WR-RELCALID:1507f7ee4f5cc51bf33895959856802d
X-WR-TIMEZONE:America/New_York
BEGIN:VTIMEZONE
TZID:America/New_York
BEGIN:STANDARD
TZNAME:EST
DTSTART:20161106T020000
TZOFFSETFROM:-0400
TZOFFSETTO:-0500
RDATE:20171105T020000
END:STANDARD
BEGIN:DAYLIGHT
TZNAME:EDT
DTSTART:20160313T020000
TZOFFSETFROM:-0500
TZOFFSETTO:-0400
RDATE:20170312T020000
RDATE:20180311T020000
END:DAYLIGHT
END:VTIMEZONE
BEGIN:VEVENT
UID:c1acc2e7-c13e-4887-a64e-49ee93a12ebc
DTSTAMP:20260424T180900Z
DESCRIPTION:
DTSTART;TZID=America/New_York:20161129T180000
DTEND;TZID=America/New_York:20161129T190000
LOCATION:
SUMMARY:Webinar: Advancing Opportunities:  Student Success Center
END:VEVENT
END:VCALENDAR
