BEGIN:VCALENDAR
VERSION:2.0
PRODID:-//www.thearcfamilyinstitute.org//NONSGML kigkonsult.se iCalcreator 
 2.30.10//
CALSCALE:GREGORIAN
METHOD:PUBLISH
UID:c4b4d715-e0a3-49ce-ba43-4ac829f3b470
X-WR-CALDESC:Caring for a loved one can put a strain on even the most resil
 ient person. If you're a caregiver\, you must take steps to preserve your 
 own health and well-being. Join the Arc of New Jersey Family Institute and
  The Arc Monmouth for a workshop designed to help you\, the caregiver\, le
 arn different ways to alleviate stress. \n\nPresenter: Dawn Mitten\, is a 
 Massage Therapist and Reiki Practitioner. Dawn is also a parent with a spe
 cial needs child.
X-WR-RELCALID:b8f857337a5b6619ff68fb7429a13acf
X-WR-TIMEZONE:America/New_York
BEGIN:VTIMEZONE
TZID:America/New_York
BEGIN:STANDARD
TZNAME:EST
DTSTART:20161106T020000
TZOFFSETFROM:-0400
TZOFFSETTO:-0500
RDATE:20171105T020000
END:STANDARD
BEGIN:DAYLIGHT
TZNAME:EDT
DTSTART:20160313T020000
TZOFFSETFROM:-0500
TZOFFSETTO:-0400
RDATE:20170312T020000
RDATE:20180311T020000
END:DAYLIGHT
END:VTIMEZONE
BEGIN:VEVENT
UID:681717a2-5ec6-42b7-9e04-23f4e9005669
DTSTAMP:20260424T181230Z
DESCRIPTION:Caring for a loved one can put a strain on even the most resili
 ent person. If you're a caregiver\, you must take steps to preserve your o
 wn health and well-being. Join the Arc of New Jersey Family Institute and 
 The Arc Monmouth for a workshop designed to help you\, the caregiver\, lea
 rn different ways to alleviate stress. \n\nPresenter: Dawn Mitten\, is a M
 assage Therapist and Reiki Practitioner. Dawn is also a parent with a spec
 ial needs child.
DTSTART;TZID=America/New_York:20161117T183000
DTEND;TZID=America/New_York:20161117T193000
LOCATION:The Arc Monmouth\, 1158 Wayside Rd\, Tinton Falls\, NJ 07712
SUMMARY:Caring For YOU! A Stress Management and Alternative Options - Monmo
 uth County
END:VEVENT
END:VCALENDAR
