BEGIN:VCALENDAR
VERSION:2.0
PRODID:-//www.thearcfamilyinstitute.org//NONSGML kigkonsult.se iCalcreator 
 2.30.10//
CALSCALE:GREGORIAN
METHOD:PUBLISH
UID:86d702b8-daaa-42a0-be66-a4f098c07bc3
X-WR-CALDESC:A special needs trust can play a critical role in planning for
  the financial future of an individual with intellectual and developmental
  disabilities. Join The Arc of New Jersey Family Institute and Hinkle\, Fi
 ngles\, Prior & Fischer\, Attorneys at Law as we discuss the importance of
  a special needs trust and how it can help your family.
X-WR-RELCALID:ab1bbaea3084d2fcdd5f879b165df8d0
X-WR-TIMEZONE:America/New_York
BEGIN:VTIMEZONE
TZID:America/New_York
BEGIN:STANDARD
TZNAME:EST
DTSTART:20161106T020000
TZOFFSETFROM:-0400
TZOFFSETTO:-0500
RDATE:20171105T020000
END:STANDARD
BEGIN:DAYLIGHT
TZNAME:EDT
DTSTART:20160313T020000
TZOFFSETFROM:-0500
TZOFFSETTO:-0400
RDATE:20170312T020000
RDATE:20180311T020000
END:DAYLIGHT
END:VTIMEZONE
BEGIN:VEVENT
UID:730196fc-6c23-4625-8657-484aa983e056
DTSTAMP:20260424T181231Z
DESCRIPTION:A special needs trust can play a critical role in planning for 
 the financial future of an individual with intellectual and developmental 
 disabilities. Join The Arc of New Jersey Family Institute and Hinkle\, Fin
 gles\, Prior & Fischer\, Attorneys at Law as we discuss the importance of 
 a special needs trust and how it can help your family.
DTSTART;TZID=America/New_York:20161115T180000
DTEND;TZID=America/New_York:20161115T190000
LOCATION:
SUMMARY:Webinar: Planning for the Future: The Importance of a Special Needs
  Trust
END:VEVENT
END:VCALENDAR
