BEGIN:VCALENDAR
VERSION:2.0
PRODID:-//www.thearcfamilyinstitute.org//NONSGML kigkonsult.se iCalcreator 
 2.30.10//
CALSCALE:GREGORIAN
METHOD:PUBLISH
UID:2b0d4045-0ae7-4e70-b7a4-13071907619e
X-WR-CALDESC:Social Security (SSI/SSDI)\, Medicaid/Medicare\, Employment\n–
  Beverly Roberts\, Arc of NJ\n– Darlene Yannetta\, Division of Development
 al Disabilities\nCome learn about: determination of Medicaid eligibility a
 t age 18\, the Support Program\, the new Fee-for Service system\, Support 
 Coordination\, and Person-Centered Planning\nBring your questions/experien
 ces!
X-WR-RELCALID:ba805a3747eb179f683bdb2361e0a278
X-WR-TIMEZONE:America/New_York
BEGIN:VTIMEZONE
TZID:America/New_York
BEGIN:STANDARD
TZNAME:EST
DTSTART:20161106T020000
TZOFFSETFROM:-0400
TZOFFSETTO:-0500
RDATE:20171105T020000
END:STANDARD
BEGIN:DAYLIGHT
TZNAME:EDT
DTSTART:20160313T020000
TZOFFSETFROM:-0500
TZOFFSETTO:-0400
RDATE:20170312T020000
RDATE:20180311T020000
END:DAYLIGHT
END:VTIMEZONE
BEGIN:VEVENT
UID:5ee9d43e-4057-42c4-949b-c33371323401
DTSTAMP:20260424T181305Z
DESCRIPTION:Social Security (SSI/SSDI)\, Medicaid/Medicare\, Employment\n– 
 Beverly Roberts\, Arc of NJ\n– Darlene Yannetta\, Division of Developmenta
 l Disabilities\nCome learn about: determination of Medicaid eligibility at
  age 18\, the Support Program\, the new Fee-for Service system\, Support C
 oordination\, and Person-Centered Planning\nBring your questions/experienc
 es!
DTSTART;TZID=America/New_York:20161115T190000
DTEND;TZID=America/New_York:20161115T210000
LOCATION:The Arc Kohler School\, Mountainside
SUMMARY:Parent Workshop:Social Security (SSI/SSDI)\, Medicaid/Medicare\, Em
 ployment (Union County)
END:VEVENT
END:VCALENDAR
