BEGIN:VCALENDAR
VERSION:2.0
PRODID:-//www.thearcfamilyinstitute.org//NONSGML kigkonsult.se iCalcreator 
 2.30.10//
CALSCALE:GREGORIAN
METHOD:PUBLISH
UID:6bf2b5b5-f541-427a-b4cf-035206b3ee82
X-WR-CALDESC:
X-WR-RELCALID:ccd2027f8ed904c067c61f70586d2ef1
X-WR-TIMEZONE:America/New_York
BEGIN:VTIMEZONE
TZID:America/New_York
BEGIN:STANDARD
TZNAME:EST
DTSTART:20161106T020000
TZOFFSETFROM:-0400
TZOFFSETTO:-0500
RDATE:20171105T020000
END:STANDARD
BEGIN:DAYLIGHT
TZNAME:EDT
DTSTART:20160313T020000
TZOFFSETFROM:-0500
TZOFFSETTO:-0400
RDATE:20170312T020000
RDATE:20180311T020000
END:DAYLIGHT
END:VTIMEZONE
BEGIN:VEVENT
UID:2fec758e-7b0c-4e9a-9c50-f22e0fff88f0
DTSTAMP:20260424T181024Z
DESCRIPTION:
DTSTART;TZID=America/New_York:20161109T180000
DTEND;TZID=America/New_York:20161109T200000
LOCATION:The Arc Mercer\, 180 Ewingville Rd\, Ewing Township\, NJ 08638
SUMMARY:The Arc Mercer: Competitive Employment Seminar
END:VEVENT
END:VCALENDAR
