BEGIN:VCALENDAR
VERSION:2.0
PRODID:-//www.thearcfamilyinstitute.org//NONSGML kigkonsult.se iCalcreator 
 2.30.10//
CALSCALE:GREGORIAN
METHOD:PUBLISH
UID:1a60a423-3910-404e-9118-f18b0f00ed7d
X-WR-CALDESC:The Supportive Housing Association of NJ recently published a 
 guide to community housing that provides easy to understand information\, 
 advice and guidance about community housing and supportive services. The H
 ousing Guide was designed specifically for individuals with disabilities a
 nd their families with a concentration on those with intellectual and deve
 lopmental disabilities.
X-WR-RELCALID:156e1d50a7d1ba9d3dd282c774da3f73
X-WR-TIMEZONE:America/New_York
BEGIN:VTIMEZONE
TZID:America/New_York
BEGIN:STANDARD
TZNAME:EST
DTSTART:20161106T020000
TZOFFSETFROM:-0400
TZOFFSETTO:-0500
RDATE:20171105T020000
END:STANDARD
BEGIN:DAYLIGHT
TZNAME:EDT
DTSTART:20160313T020000
TZOFFSETFROM:-0500
TZOFFSETTO:-0400
RDATE:20170312T020000
RDATE:20180311T020000
END:DAYLIGHT
END:VTIMEZONE
BEGIN:VEVENT
UID:04232243-1fdc-49de-9c96-4ea990e7aec9
DTSTAMP:20260424T181338Z
DESCRIPTION:The Supportive Housing Association of NJ recently published a g
 uide to community housing that provides easy to understand information\, a
 dvice and guidance about community housing and supportive services. The Ho
 using Guide was designed specifically for individuals with disabilities an
 d their families with a concentration on those with intellectual and devel
 opmental disabilities.
DTSTART;TZID=America/New_York:20161101T190000
DTEND;TZID=America/New_York:20161101T210000
LOCATION:Hunterdon Medical Center Auditorium  2100 Wescott Drive\, Flemingt
 on\, NJ
SUMMARY:The Journey to Community Housing with Supports: A Road Map for Indi
 viduals and Their Families in NJ
END:VEVENT
END:VCALENDAR
