BEGIN:VCALENDAR
VERSION:2.0
PRODID:-//www.thearcfamilyinstitute.org//NONSGML kigkonsult.se iCalcreator 
 2.30.10//
CALSCALE:GREGORIAN
METHOD:PUBLISH
UID:1b4724b7-738f-4f7b-9306-37f2710ccdfa
X-WR-CALDESC:Calling all students with intellectual and developmental disab
 ilities and their families.\n\nJoin The Arc of New Jersey Family Institute
  for a tour of Mercer County Community College’s DREAM program. You will h
 ave an opportunity to visit Mercer County Community College and learn abou
 t the different aspects of a college experience. Families will learn all a
 bout the DREAM program and the Office of Special Services. The DREAM progr
 am is student-centered\, which means that each student's course of study i
 s determined by the student's goals and needs. Areas of study include: Aca
 demic Experiences\, Career-Related Experiences\, Independent Life Experien
 ces\, and Socialization Experiences. Space is limited to 20 families.
X-WR-RELCALID:5386253c1d40110f7dc5db396df13ed6
X-WR-TIMEZONE:America/New_York
BEGIN:VTIMEZONE
TZID:America/New_York
BEGIN:STANDARD
TZNAME:EST
DTSTART:20151101T020000
TZOFFSETFROM:-0400
TZOFFSETTO:-0500
RDATE:20161106T020000
RDATE:20171105T020000
END:STANDARD
BEGIN:DAYLIGHT
TZNAME:EDT
DTSTART:20160313T020000
TZOFFSETFROM:-0500
TZOFFSETTO:-0400
RDATE:20170312T020000
RDATE:20180311T020000
END:DAYLIGHT
END:VTIMEZONE
BEGIN:VEVENT
UID:b8a7f3f1-2594-47b7-90e8-79876e094927
DTSTAMP:20260424T192331Z
DESCRIPTION:Calling all students with intellectual and developmental disabi
 lities and their families.\n\nJoin The Arc of New Jersey Family Institute 
 for a tour of Mercer County Community College’s DREAM program. You will ha
 ve an opportunity to visit Mercer County Community College and learn about
  the different aspects of a college experience. Families will learn all ab
 out the DREAM program and the Office of Special Services. The DREAM progra
 m is student-centered\, which means that each student's course of study is
  determined by the student's goals and needs. Areas of study include: Acad
 emic Experiences\, Career-Related Experiences\, Independent Life Experienc
 es\, and Socialization Experiences. Space is limited to 20 families.
DTSTART;TZID=America/New_York:20161029T100000
DTEND;TZID=America/New_York:20161029T123000
LOCATION:Mercer County College\, Welcome Center\, West Windsor Campus\, 120
 0 Old Trenton Road\, West Windsor\, NJ 08550
SUMMARY:Mercer County College Tour
END:VEVENT
END:VCALENDAR
