BEGIN:VCALENDAR
VERSION:2.0
PRODID:-//www.thearcfamilyinstitute.org//NONSGML kigkonsult.se iCalcreator 
 2.30.10//
CALSCALE:GREGORIAN
METHOD:PUBLISH
UID:8ed8eafd-c837-4302-aa97-a39ef1b0a5c3
X-WR-CALDESC:The Regional Family Support Planning Council # 9 invites famil
 ies of youth (age 16 to 21) and adults with an intellectual or development
 al disability to our public forum featuring the following two important to
 pics:\n\n•	Transition from school to adult life\n•	Housing in the Southern N
 ew Jersey\n\nPlease join us and our two guest presenter:\nLisa Gates \nTra
 nsition Navigator\nPlanning for Adult Life\n\nDeborah Wehrlen\nPrimary Aut
 hor of the “The Journey to Community Housing with Supports: A Road Map for
  Individuals and their families in New Jersey” issued by the Supportive Ho
 using Association of New Jersey\nConsultant at DTW Consulting Group
X-WR-RELCALID:dba07006077a4456be2da71fefb3175e
X-WR-TIMEZONE:America/New_York
BEGIN:VTIMEZONE
TZID:America/New_York
BEGIN:STANDARD
TZNAME:EST
DTSTART:20151101T020000
TZOFFSETFROM:-0400
TZOFFSETTO:-0500
RDATE:20161106T020000
RDATE:20171105T020000
END:STANDARD
BEGIN:DAYLIGHT
TZNAME:EDT
DTSTART:20160313T020000
TZOFFSETFROM:-0500
TZOFFSETTO:-0400
RDATE:20170312T020000
RDATE:20180311T020000
END:DAYLIGHT
END:VTIMEZONE
BEGIN:VEVENT
UID:b16f007b-48ec-41f2-97ee-bfed3fe54231
DTSTAMP:20260424T192646Z
DESCRIPTION:The Regional Family Support Planning Council # 9 invites famili
 es of youth (age 16 to 21) and adults with an intellectual or developmenta
 l disability to our public forum featuring the following two important top
 ics:\n\n•	Transition from school to adult life\n•	Housing in the Southern Ne
 w Jersey\n\nPlease join us and our two guest presenter:\nLisa Gates \nTran
 sition Navigator\nPlanning for Adult Life\n\nDeborah Wehrlen\nPrimary Auth
 or of the “The Journey to Community Housing with Supports: A Road Map for 
 Individuals and their families in New Jersey” issued by the Supportive Hou
 sing Association of New Jersey\nConsultant at DTW Consulting Group
DTSTART;TZID=America/New_York:20161027T150000
DTEND;TZID=America/New_York:20161027T160000
LOCATION:The Arc of Atlantic County\, 6550 Delilah Road\,  Suite 101\,  Egg
  Harbor Township\, 08234\, Multi Purpose Room
SUMMARY:Parent Workshop: Transition from school to adult life and Housing i
 n the Southern New Jersey (Atlantic County)
END:VEVENT
END:VCALENDAR
