BEGIN:VCALENDAR
VERSION:2.0
PRODID:-//www.thearcfamilyinstitute.org//NONSGML kigkonsult.se iCalcreator 
 2.30.10//
CALSCALE:GREGORIAN
METHOD:PUBLISH
UID:9e92b16c-b1d5-4711-aedb-b314b5460119
X-WR-CALDESC:A collaborative presentation of the Hawkswood School and The A
 rc of Monmouth
X-WR-RELCALID:75dfd0e4dfd453e1f6a2d27a9e6b6d0f
X-WR-TIMEZONE:America/New_York
BEGIN:VTIMEZONE
TZID:America/New_York
BEGIN:STANDARD
TZNAME:EST
DTSTART:20151101T020000
TZOFFSETFROM:-0400
TZOFFSETTO:-0500
RDATE:20161106T020000
RDATE:20171105T020000
END:STANDARD
BEGIN:DAYLIGHT
TZNAME:EDT
DTSTART:20160313T020000
TZOFFSETFROM:-0500
TZOFFSETTO:-0400
RDATE:20170312T020000
RDATE:20180311T020000
END:DAYLIGHT
END:VTIMEZONE
BEGIN:VEVENT
UID:73d7a0a5-2cfd-48c9-8160-c1e2c6f4d840
DTSTAMP:20260424T192620Z
DESCRIPTION:A collaborative presentation of the Hawkswood School and The Ar
 c of Monmouth
DTSTART;TZID=America/New_York:20161026T183000
DTEND;TZID=America/New_York:20161026T200000
LOCATION:The Hawkswood School\, 468 Industrial Way\, Eatontown
SUMMARY:The Arc Monmouth: Community Care Waiver - Housing Options
END:VEVENT
END:VCALENDAR
