BEGIN:VCALENDAR
VERSION:2.0
PRODID:-//www.thearcfamilyinstitute.org//NONSGML kigkonsult.se iCalcreator 
 2.30.10//
CALSCALE:GREGORIAN
METHOD:PUBLISH
UID:2c7b569f-aee3-46d5-a511-a961f26a04fb
X-WR-CALDESC:Students with autism and developmental disabilities often need
  to be directly taught how to communicate their wants and needs\, how to e
 ngage in appropriate toy play\, and how to use both these repertoires to f
 oster social relationships. This workshop will provide information on teac
 hing and shaping several key verbal capabilities and important play skills
  that will build a foundation for further social interactions.
X-WR-RELCALID:a90d8c8b60ea26323f269c47389baa7c
X-WR-TIMEZONE:America/New_York
BEGIN:VTIMEZONE
TZID:America/New_York
BEGIN:STANDARD
TZNAME:EST
DTSTART:20151101T020000
TZOFFSETFROM:-0400
TZOFFSETTO:-0500
RDATE:20161106T020000
RDATE:20171105T020000
END:STANDARD
BEGIN:DAYLIGHT
TZNAME:EDT
DTSTART:20160313T020000
TZOFFSETFROM:-0500
TZOFFSETTO:-0400
RDATE:20170312T020000
RDATE:20180311T020000
END:DAYLIGHT
END:VTIMEZONE
BEGIN:VEVENT
UID:68c68762-21c6-4192-81ba-57268eaf5704
DTSTAMP:20260424T191228Z
DESCRIPTION:Students with autism and developmental disabilities often need 
 to be directly taught how to communicate their wants and needs\, how to en
 gage in appropriate toy play\, and how to use both these repertoires to fo
 ster social relationships. This workshop will provide information on teach
 ing and shaping several key verbal capabilities and important play skills 
 that will build a foundation for further social interactions.
DTSTART;TZID=America/New_York:20161026T180000
DTEND;TZID=America/New_York:20161026T200000
LOCATION:Success Ladder Academy\, 856 US-206\, Hillsborough\, 08844
SUMMARY:Social Skills and Development Workshop
END:VEVENT
END:VCALENDAR
