BEGIN:VCALENDAR
VERSION:2.0
PRODID:-//www.thearcfamilyinstitute.org//NONSGML kigkonsult.se iCalcreator 
 2.30.10//
CALSCALE:GREGORIAN
METHOD:PUBLISH
UID:8526c792-1a95-4bad-b474-b31dfb7959d9
X-WR-CALDESC:Do You have a child with and an intellectual or developmental 
 \ndisability? Join the Regional Family Support Planning Council #5  as we 
 host an open forum and discussion to help you navigate the system.\n\nTopi
 cs to be discussed:\nSpecial Education Issues and Resolutions \nTransition
  Planning\nHow to Access Services and Natural Supports \nSessions Will Clo
 se with Questions & Answers\n\nGuest Speakers\nJoanne May\, Special Educat
 ion Consultant \nSarit Glikman\, Transition Navigator\, Planning for Adult
  Life Program\, The Arc of New Jersey
X-WR-RELCALID:2bc629ba94a0a2e5781b5f9d806c1bf4
X-WR-TIMEZONE:America/New_York
BEGIN:VTIMEZONE
TZID:America/New_York
BEGIN:STANDARD
TZNAME:EST
DTSTART:20151101T020000
TZOFFSETFROM:-0400
TZOFFSETTO:-0500
RDATE:20161106T020000
RDATE:20171105T020000
END:STANDARD
BEGIN:DAYLIGHT
TZNAME:EDT
DTSTART:20160313T020000
TZOFFSETFROM:-0500
TZOFFSETTO:-0400
RDATE:20170312T020000
RDATE:20180311T020000
END:DAYLIGHT
END:VTIMEZONE
BEGIN:VEVENT
UID:425022ae-12dc-4e58-acc5-562716859633
DTSTAMP:20260424T192627Z
DESCRIPTION:Do You have a child with and an intellectual or developmental 
 \ndisability? Join the Regional Family Support Planning Council #5  as we 
 host an open forum and discussion to help you navigate the system.\n\nTopi
 cs to be discussed:\nSpecial Education Issues and Resolutions \nTransition
  Planning\nHow to Access Services and Natural Supports \nSessions Will Clo
 se with Questions & Answers\n\nGuest Speakers\nJoanne May\, Special Educat
 ion Consultant \nSarit Glikman\, Transition Navigator\, Planning for Adult
  Life Program\, The Arc of New Jersey
DTSTART;TZID=America/New_York:20161022T100000
DTEND;TZID=America/New_York:20161022T120000
LOCATION:The Arc Mercer\,  180 Ewingville Road\, Ewing\, 08638
SUMMARY:Understanding The Special Education System and Transition from Scho
 ol to Adult Life (Mercer County)
END:VEVENT
END:VCALENDAR
