BEGIN:VCALENDAR
VERSION:2.0
PRODID:-//www.thearcfamilyinstitute.org//NONSGML kigkonsult.se iCalcreator 
 2.30.10//
CALSCALE:GREGORIAN
METHOD:PUBLISH
UID:04c10038-dc16-41d1-a186-ea2e951db581
X-WR-CALDESC:Sibling Support Workshops/Groups\n\n Join us for 3 sibling wor
 kshops/groups for siblings of children/teens ages 6-16 with disabilities. 
 Hosted by SIBS NJ in conjunction with The Arc Kohler School and The Arc of
  Union County!\n\n$ 15 per session\n\nOctober 1st\, 8th\, 22nd @ 1-2:30 PM
 \n\nPromote opportunities for peer support amongst siblings of individuals
  with disabilities\nProvide a safe space to discuss some of the difficulti
 es in having a sibling with special needs\nCreate an opportunity for sibli
 ngs to recognize they are not alone in their experiences and learn new ski
 lls to support them in their roles\n\n*Scholarships are available on a lim
 ited basis
X-WR-RELCALID:4a4823159e7dc19270c9c533c3e2bbcb
X-WR-TIMEZONE:America/New_York
BEGIN:VTIMEZONE
TZID:America/New_York
BEGIN:STANDARD
TZNAME:EST
DTSTART:20151101T020000
TZOFFSETFROM:-0400
TZOFFSETTO:-0500
RDATE:20161106T020000
RDATE:20171105T020000
END:STANDARD
BEGIN:DAYLIGHT
TZNAME:EDT
DTSTART:20160313T020000
TZOFFSETFROM:-0500
TZOFFSETTO:-0400
RDATE:20170312T020000
RDATE:20180311T020000
END:DAYLIGHT
END:VTIMEZONE
BEGIN:VEVENT
UID:07998db6-d111-4c55-907f-e73d5d6c1524
DTSTAMP:20260424T192309Z
DESCRIPTION:Sibling Support Workshops/Groups\n\n Join us for 3 sibling work
 shops/groups for siblings of children/teens ages 6-16 with disabilities. H
 osted by SIBS NJ in conjunction with The Arc Kohler School and The Arc of 
 Union County!\n\n$ 15 per session\n\nOctober 1st\, 8th\, 22nd @ 1-2:30 PM
 \n\nPromote opportunities for peer support amongst siblings of individuals
  with disabilities\nProvide a safe space to discuss some of the difficulti
 es in having a sibling with special needs\nCreate an opportunity for sibli
 ngs to recognize they are not alone in their experiences and learn new ski
 lls to support them in their roles\n\n*Scholarships are available on a lim
 ited basis
DTSTART;TZID=America/New_York:20161022T130000
DTEND;TZID=America/New_York:20161022T143000
LOCATION:Arc Kohler School - 1137 Globe Avenue\, Mountainside\, NJ 07092
SUMMARY:The Arc of Union: Sibling Support Group
END:VEVENT
END:VCALENDAR
