BEGIN:VCALENDAR
VERSION:2.0
PRODID:-//www.thearcfamilyinstitute.org//NONSGML kigkonsult.se iCalcreator 
 2.30.10//
CALSCALE:GREGORIAN
METHOD:PUBLISH
UID:94e21067-8fb0-45ec-9837-de0e5dccd5e9
X-WR-CALDESC:Join the Regional Family Support Planning Council #5 for this 
 informative event. Topics discussed include: vocational services\, navigat
 ing the adult service delivery system\, challenges and resolutions\, and w
 hat services and resources are available from the government.\n\nGuest Spe
 aker\nAlice Hunnicutt\, Director\, New Jersey Division of Vocational \nReh
 abilitation Services\nNkechi Ugoji\, Senior Coordinator\, Training\, Polic
 y & Transition\, New Jersey Division of Developmental Disabilities
X-WR-RELCALID:3a7495e974f675a5d28d7a96dbf7cade
X-WR-TIMEZONE:America/New_York
BEGIN:VTIMEZONE
TZID:America/New_York
BEGIN:STANDARD
TZNAME:EST
DTSTART:20151101T020000
TZOFFSETFROM:-0400
TZOFFSETTO:-0500
RDATE:20161106T020000
RDATE:20171105T020000
END:STANDARD
BEGIN:DAYLIGHT
TZNAME:EDT
DTSTART:20160313T020000
TZOFFSETFROM:-0500
TZOFFSETTO:-0400
RDATE:20170312T020000
RDATE:20180311T020000
END:DAYLIGHT
END:VTIMEZONE
BEGIN:VEVENT
UID:656dd057-3602-47cc-b3a0-3d436ec2a877
DTSTAMP:20260424T192219Z
DESCRIPTION:Join the Regional Family Support Planning Council #5 for this i
 nformative event. Topics discussed include: vocational services\, navigati
 ng the adult service delivery system\, challenges and resolutions\, and wh
 at services and resources are available from the government.\n\nGuest Spea
 ker\nAlice Hunnicutt\, Director\, New Jersey Division of Vocational \nReha
 bilitation Services\nNkechi Ugoji\, Senior Coordinator\, Training\, Policy
  & Transition\, New Jersey Division of Developmental Disabilities
DTSTART;TZID=America/New_York:20161022T100000
DTEND;TZID=America/New_York:20161022T120000
LOCATION:The Arc Mercer\, 180 Ewingville Road\, Ewing\, 08638
SUMMARY:State Services and Resources for  Adults with Developmental Disabil
 ities (Mercer County)
END:VEVENT
END:VCALENDAR
