BEGIN:VCALENDAR
VERSION:2.0
PRODID:-//www.thearcfamilyinstitute.org//NONSGML kigkonsult.se iCalcreator 
 2.30.10//
CALSCALE:GREGORIAN
METHOD:PUBLISH
UID:8dd4e97c-a59e-4fe4-8ef3-8da98db29aeb
X-WR-CALDESC:While end-of-life issues are increasingly gaining more attenti
 on\, people with intellectual and developmental disabilities (IDD) continu
 e to receive significantly less consideration in research\, education\, an
 d clinical practice compared with the general population. This is a growin
 g concern especially since the sheer number of persons aging with IDD is e
 xpected to double between 2000 and 2030. Furthermore\, as policies continu
 e shifting to reflect a preference for home and community-based services a
 s an alternative to institutionalization\, adult day services (ADS) have t
 he potential of becoming ideal settings for receipt of end-of-life care\, 
 especially for individuals with IDD. However\, end-of-life care and advanc
 e planning most commonly occur in long-term care settings\, for the genera
 l population\, and have historically been less of a priority in ADS and re
 sidential services for people with IDD. This presentation discusses findin
 gs from a study around the attitudes of\, and collaboration between\, ADS 
 and end-of-life providers for aging adults including persons with IDD. We 
 will also explore how ADS may be a great pathway for delivering end-of-lif
 e care to the IDD population and provide guiding recommendations. \n\nCori
 na R. Ronneberg\, MS\, is a Doctoral Candidate in Gerontology from the Uni
 versity of Massachusetts Boston. She is also serving as Visiting Senior Re
 search Specialist in the Department of Disability and Human Development at
  the University of Illinois at Chicago and is the Managing Editor of the J
 ournal of Aging & Social Policy. Corina’s research focuses on older adults
 \, physical and mental health\, faith\, as well as health promotion for un
 deserved populations. \n\nLisa Peters-Beumer is the assistant VP\, Adult a
 nd Senior Services for Easter Seals where she advances innovative efforts 
 across Easter Seals national network of HCBS providers\, such as the devel
 opment and implementation of core outcome measures\, bridging adult day se
 rvices with end of life care and scaling up an evidence informed models of
  care.
X-WR-RELCALID:0dccb8f1f3e2bacb65a6aa92474b3546
X-WR-TIMEZONE:America/New_York
BEGIN:VTIMEZONE
TZID:America/New_York
BEGIN:STANDARD
TZNAME:EST
DTSTART:20151101T020000
TZOFFSETFROM:-0400
TZOFFSETTO:-0500
RDATE:20161106T020000
RDATE:20171105T020000
END:STANDARD
BEGIN:DAYLIGHT
TZNAME:EDT
DTSTART:20160313T020000
TZOFFSETFROM:-0500
TZOFFSETTO:-0400
RDATE:20170312T020000
RDATE:20180311T020000
END:DAYLIGHT
END:VTIMEZONE
BEGIN:VEVENT
UID:82c01b2e-55d0-4dad-a5c9-00ca304e0d2d
DTSTAMP:20260424T192650Z
DESCRIPTION:While end-of-life issues are increasingly gaining more attentio
 n\, people with intellectual and developmental disabilities (IDD) continue
  to receive significantly less consideration in research\, education\, and
  clinical practice compared with the general population. This is a growing
  concern especially since the sheer number of persons aging with IDD is ex
 pected to double between 2000 and 2030. Furthermore\, as policies continue
  shifting to reflect a preference for home and community-based services as
  an alternative to institutionalization\, adult day services (ADS) have th
 e potential of becoming ideal settings for receipt of end-of-life care\, e
 specially for individuals with IDD. However\, end-of-life care and advance
  planning most commonly occur in long-term care settings\, for the general
  population\, and have historically been less of a priority in ADS and res
 idential services for people with IDD. This presentation discusses finding
 s from a study around the attitudes of\, and collaboration between\, ADS a
 nd end-of-life providers for aging adults including persons with IDD. We w
 ill also explore how ADS may be a great pathway for delivering end-of-life
  care to the IDD population and provide guiding recommendations. \n\nCorin
 a R. Ronneberg\, MS\, is a Doctoral Candidate in Gerontology from the Univ
 ersity of Massachusetts Boston. She is also serving as Visiting Senior Res
 earch Specialist in the Department of Disability and Human Development at 
 the University of Illinois at Chicago and is the Managing Editor of the Jo
 urnal of Aging & Social Policy. Corina’s research focuses on older adults\
 , physical and mental health\, faith\, as well as health promotion for und
 eserved populations. \n\nLisa Peters-Beumer is the assistant VP\, Adult an
 d Senior Services for Easter Seals where she advances innovative efforts a
 cross Easter Seals national network of HCBS providers\, such as the develo
 pment and implementation of core outcome measures\, bridging adult day ser
 vices with end of life care and scaling up an evidence informed models of 
 care.
DTSTART;TZID=America/New_York:20161020T150000
DTEND;TZID=America/New_York:20161020T160000
LOCATION:
SUMMARY:Webinar: Promoting Collaboration Between Hospice and Palliative Car
 e Providers and Adult Day Services for Individuals with I/DD
END:VEVENT
END:VCALENDAR
