BEGIN:VCALENDAR
VERSION:2.0
PRODID:-//www.thearcfamilyinstitute.org//NONSGML kigkonsult.se iCalcreator 
 2.30.10//
CALSCALE:GREGORIAN
METHOD:PUBLISH
UID:7354ab43-28d9-495d-a23b-68062527610e
X-WR-CALDESC:
X-WR-RELCALID:ebe2c26ffa6431bbb0e04d8d260aff5c
X-WR-TIMEZONE:America/New_York
BEGIN:VTIMEZONE
TZID:America/New_York
BEGIN:STANDARD
TZNAME:EST
DTSTART:20151101T020000
TZOFFSETFROM:-0400
TZOFFSETTO:-0500
RDATE:20161106T020000
RDATE:20171105T020000
END:STANDARD
BEGIN:DAYLIGHT
TZNAME:EDT
DTSTART:20160313T020000
TZOFFSETFROM:-0500
TZOFFSETTO:-0400
RDATE:20170312T020000
RDATE:20180311T020000
END:DAYLIGHT
END:VTIMEZONE
BEGIN:VEVENT
UID:e094cbf8-3a09-493f-8f83-85312c7ee8ec
DTSTAMP:20260424T192623Z
DESCRIPTION:
DTSTART;TZID=America/New_York:20161020T180000
DTEND;TZID=America/New_York:20161020T200000
LOCATION:92 West Main Street\, Freehold\, 07728
SUMMARY:Family Justice Series: What Every Family Should Know
END:VEVENT
END:VCALENDAR
