BEGIN:VCALENDAR
VERSION:2.0
PRODID:-//www.thearcfamilyinstitute.org//NONSGML kigkonsult.se iCalcreator 
 2.30.10//
CALSCALE:GREGORIAN
METHOD:PUBLISH
UID:91348766-33be-4797-8ee3-e57dbfe0f7e7
X-WR-CALDESC:Join us as we discuss the Pre-Employment Transition Services (
 PETS) program from the Division of Vocational Rehabilitation Services. The
  presentation will help identify required activities under PETS\, other au
 thorized activities and the next steps to be taken. This webinar is geared
  for students\, their families and professionals in the field.
X-WR-RELCALID:d58d363208fe180ce9cf3f7628c10a2a
X-WR-TIMEZONE:America/New_York
BEGIN:VTIMEZONE
TZID:America/New_York
BEGIN:STANDARD
TZNAME:EST
DTSTART:20151101T020000
TZOFFSETFROM:-0400
TZOFFSETTO:-0500
RDATE:20161106T020000
RDATE:20171105T020000
END:STANDARD
BEGIN:DAYLIGHT
TZNAME:EDT
DTSTART:20160313T020000
TZOFFSETFROM:-0500
TZOFFSETTO:-0400
RDATE:20170312T020000
RDATE:20180311T020000
END:DAYLIGHT
END:VTIMEZONE
BEGIN:VEVENT
UID:9278d7be-beca-4f20-a04b-5f041b3756ce
DTSTAMP:20260424T192512Z
DESCRIPTION:Join us as we discuss the Pre-Employment Transition Services (P
 ETS) program from the Division of Vocational Rehabilitation Services. The 
 presentation will help identify required activities under PETS\, other aut
 horized activities and the next steps to be taken. This webinar is geared 
 for students\, their families and professionals in the field.
DTSTART;TZID=America/New_York:20161019T180000
DTEND;TZID=America/New_York:20161019T190000
LOCATION:
SUMMARY:Webinar: What are Pre-Employment Transition Services and how your s
 tudent can explore the world of work
END:VEVENT
END:VCALENDAR
