BEGIN:VCALENDAR
VERSION:2.0
PRODID:-//www.thearcfamilyinstitute.org//NONSGML kigkonsult.se iCalcreator 
 2.30.10//
CALSCALE:GREGORIAN
METHOD:PUBLISH
UID:74ae962c-ef7a-417a-aba5-97793d689ad4
X-WR-CALDESC:The seminar will be presented by  Deirdre R. Wheatley-Liss\, E
 sq.\, LL.M (Taxation)\, CELA from Principal-Porzio\, Bromberg & Newman\, P
 .C. She holds an LL.M in Taxation\, an advanced legal degree. She is also 
 accredited as a Certified Elder Law Attorney by the American Bar Associati
 on approved National Elder Law Foundation\, one of fewer than 100 attorney
 s in New Jersey with this credential.\n\nLight refreshments will be served
 .  There is limited seating.  Please RSVP by Monday\, October 17th\, to La
 ura Ziegler at lauraz@thearcofsomerset.org or 908-658-3805.
X-WR-RELCALID:c7fe4ef1f7457443f815d8e7d5a7f6a8
X-WR-TIMEZONE:America/New_York
BEGIN:VTIMEZONE
TZID:America/New_York
BEGIN:STANDARD
TZNAME:EST
DTSTART:20151101T020000
TZOFFSETFROM:-0400
TZOFFSETTO:-0500
RDATE:20161106T020000
RDATE:20171105T020000
END:STANDARD
BEGIN:DAYLIGHT
TZNAME:EDT
DTSTART:20160313T020000
TZOFFSETFROM:-0500
TZOFFSETTO:-0400
RDATE:20170312T020000
RDATE:20180311T020000
END:DAYLIGHT
END:VTIMEZONE
BEGIN:VEVENT
UID:cf486ed6-9841-4521-8014-d75f90ac0f6d
DTSTAMP:20260424T192512Z
DESCRIPTION:The seminar will be presented by  Deirdre R. Wheatley-Liss\, Es
 q.\, LL.M (Taxation)\, CELA from Principal-Porzio\, Bromberg & Newman\, P.
 C. She holds an LL.M in Taxation\, an advanced legal degree. She is also a
 ccredited as a Certified Elder Law Attorney by the American Bar Associatio
 n approved National Elder Law Foundation\, one of fewer than 100 attorneys
  in New Jersey with this credential.\n\nLight refreshments will be served.
   There is limited seating.  Please RSVP by Monday\, October 17th\, to Lau
 ra Ziegler at lauraz@thearcofsomerset.org or 908-658-3805.
DTSTART;TZID=America/New_York:20161019T190000
DTEND;TZID=America/New_York:20161019T203000
LOCATION:The Arc of Somerset\, 141 So. Main Street\, Manville
SUMMARY:The Arc of Somerset: FREE Special Needs Trust Seminar
END:VEVENT
END:VCALENDAR
