BEGIN:VCALENDAR
VERSION:2.0
PRODID:-//www.thearcfamilyinstitute.org//NONSGML kigkonsult.se iCalcreator 
 2.30.10//
CALSCALE:GREGORIAN
METHOD:PUBLISH
UID:146657fc-5619-4e78-9e01-675b16933c61
X-WR-CALDESC:Learn how to navigate the system\, how the system partners wor
 k together to support youth and families and get your specific questions a
 nswered by the professionals.
X-WR-RELCALID:97f6c0ee6ee0e5cfddf78b8f45db7c3c
X-WR-TIMEZONE:America/New_York
BEGIN:VTIMEZONE
TZID:America/New_York
BEGIN:STANDARD
TZNAME:EST
DTSTART:20151101T020000
TZOFFSETFROM:-0400
TZOFFSETTO:-0500
RDATE:20161106T020000
RDATE:20171105T020000
END:STANDARD
BEGIN:DAYLIGHT
TZNAME:EDT
DTSTART:20160313T020000
TZOFFSETFROM:-0500
TZOFFSETTO:-0400
RDATE:20170312T020000
RDATE:20180311T020000
END:DAYLIGHT
END:VTIMEZONE
BEGIN:VEVENT
UID:164a44ac-1e7c-4b6d-9b01-efef8f0e8a38
DTSTAMP:20260424T192513Z
DESCRIPTION:Learn how to navigate the system\, how the system partners work
  together to support youth and families and get your specific questions an
 swered by the professionals.
DTSTART;TZID=America/New_York:20161018T180000
DTEND;TZID=America/New_York:20161018T200000
LOCATION:REACH Beyond Therapy\, 466 Route 12\, Flemington\, NJ
SUMMARY:New Jersey Children’s System of Care Workshop
END:VEVENT
END:VCALENDAR
