BEGIN:VCALENDAR
VERSION:2.0
PRODID:-//www.thearcfamilyinstitute.org//NONSGML kigkonsult.se iCalcreator 
 2.30.10//
CALSCALE:GREGORIAN
METHOD:PUBLISH
UID:f1a502ff-41e5-4a10-9270-b1e14513ed82
X-WR-CALDESC:Presented by Daele Phlegar\, SCARC\n \nThis workshop will help
  parents of children or young adults with developmental disabilities under
 stand the eligibility and registration processes for disability services t
 hrough the New Jersey Department of Children and Families (DCF) and the Di
 vision of Developmental Disabilities (DDD).  Detailed discussions will inc
 lude how eligibility for services is determined\, how and when to register
  with the DCF and DDD\, how to complete the application process for each a
 gency\, and how to keep your child current in the system through age 21. D
 DD application packets will also be available. Refreshments served. For mo
 re information or to register\, please call (973) 940-3194\, Ext. 19.
X-WR-RELCALID:9cbceca7b27fcd8cb6debf446ef6af90
X-WR-TIMEZONE:America/New_York
BEGIN:VTIMEZONE
TZID:America/New_York
BEGIN:STANDARD
TZNAME:EST
DTSTART:20151101T020000
TZOFFSETFROM:-0400
TZOFFSETTO:-0500
RDATE:20161106T020000
RDATE:20171105T020000
END:STANDARD
BEGIN:DAYLIGHT
TZNAME:EDT
DTSTART:20160313T020000
TZOFFSETFROM:-0500
TZOFFSETTO:-0400
RDATE:20170312T020000
RDATE:20180311T020000
END:DAYLIGHT
END:VTIMEZONE
BEGIN:VEVENT
UID:68b550da-8665-42e2-9071-80dde6d52120
DTSTAMP:20260424T192452Z
DESCRIPTION:Presented by Daele Phlegar\, SCARC\n \nThis workshop will help 
 parents of children or young adults with developmental disabilities unders
 tand the eligibility and registration processes for disability services th
 rough the New Jersey Department of Children and Families (DCF) and the Div
 ision of Developmental Disabilities (DDD).  Detailed discussions will incl
 ude how eligibility for services is determined\, how and when to register 
 with the DCF and DDD\, how to complete the application process for each ag
 ency\, and how to keep your child current in the system through age 21. DD
 D application packets will also be available. Refreshments served. For mor
 e information or to register\, please call (973) 940-3194\, Ext. 19.
DTSTART;TZID=America/New_York:20161011T123000
DTEND;TZID=America/New_York:20161011T140000
LOCATION:Family Partners Community Center\, 67 Spring Street\, Newton\, 078
 60
SUMMARY:Understanding the Eligibility Process to Access Services for Childr
 en with Developmental Disabilities in NJ
END:VEVENT
END:VCALENDAR
