BEGIN:VCALENDAR
VERSION:2.0
PRODID:-//www.thearcfamilyinstitute.org//NONSGML kigkonsult.se iCalcreator 
 2.30.10//
CALSCALE:GREGORIAN
METHOD:PUBLISH
UID:1a95a927-0c3f-4af6-aacb-8538514a6ca1
X-WR-CALDESC:
X-WR-RELCALID:e8e5a8472614061826a0e26236b91a2f
X-WR-TIMEZONE:America/New_York
BEGIN:VTIMEZONE
TZID:America/New_York
BEGIN:STANDARD
TZNAME:EST
DTSTART:20151101T020000
TZOFFSETFROM:-0400
TZOFFSETTO:-0500
RDATE:20161106T020000
RDATE:20171105T020000
END:STANDARD
BEGIN:DAYLIGHT
TZNAME:EDT
DTSTART:20160313T020000
TZOFFSETFROM:-0500
TZOFFSETTO:-0400
RDATE:20170312T020000
RDATE:20180311T020000
END:DAYLIGHT
END:VTIMEZONE
BEGIN:VEVENT
UID:86bae922-71da-4c5e-b274-80771fd63959
DTSTAMP:20260424T191921Z
DESCRIPTION:
DTSTART;TZID=America/New_York:20161008T100000
DTEND;TZID=America/New_York:20161008T130000
LOCATION:RiverWinds Community Center\, 1000 RiverWinds Drive \, West Deptfo
 rd\, NJ 08086
SUMMARY:Provider Fair (Gloucester County)
END:VEVENT
END:VCALENDAR
