BEGIN:VCALENDAR
VERSION:2.0
PRODID:-//www.thearcfamilyinstitute.org//NONSGML kigkonsult.se iCalcreator 
 2.30.10//
CALSCALE:GREGORIAN
METHOD:PUBLISH
UID:c3d05887-cd57-417f-b0b2-65a5bfd0676d
X-WR-CALDESC:There are many options for where adults with intellectual and 
 developmental disabilities (I/DD) could live. Some people with I/DD may li
 ve independently\, with other family members after they leave their parent
 s’ home\, or in a community-based setting with support. It is important to
  balance the wishes of the person with I/DD and the level of support neede
 d when identifying housing options available in your community.\n\nWe will
  focus on how to explore housing options with an adult with I/DD. We will 
 provide tips on important questions to ask the person with I/DD about wher
 e he or she wants to live when determining housing options. We will also p
 rovide guidance on how the family can work with the person with I/DD to de
 termine supports needed to and housing preferences.
X-WR-RELCALID:646b287dd1678fa37b63681753e24188
X-WR-TIMEZONE:America/New_York
BEGIN:VTIMEZONE
TZID:America/New_York
BEGIN:STANDARD
TZNAME:EST
DTSTART:20151101T020000
TZOFFSETFROM:-0400
TZOFFSETTO:-0500
RDATE:20161106T020000
RDATE:20171105T020000
END:STANDARD
BEGIN:DAYLIGHT
TZNAME:EDT
DTSTART:20160313T020000
TZOFFSETFROM:-0500
TZOFFSETTO:-0400
RDATE:20170312T020000
RDATE:20180311T020000
END:DAYLIGHT
END:VTIMEZONE
BEGIN:VEVENT
UID:91672c92-ed3d-4d68-9139-c42cd40e0ebc
DTSTAMP:20260424T192210Z
DESCRIPTION:There are many options for where adults with intellectual and d
 evelopmental disabilities (I/DD) could live. Some people with I/DD may liv
 e independently\, with other family members after they leave their parents
 ’ home\, or in a community-based setting with support. It is important to 
 balance the wishes of the person with I/DD and the level of support needed
  when identifying housing options available in your community.\n\nWe will 
 focus on how to explore housing options with an adult with I/DD. We will p
 rovide tips on important questions to ask the person with I/DD about where
  he or she wants to live when determining housing options. We will also pr
 ovide guidance on how the family can work with the person with I/DD to det
 ermine supports needed to and housing preferences.
DTSTART;TZID=America/New_York:20161006T140000
DTEND;TZID=America/New_York:20161006T150000
LOCATION:
SUMMARY:Webinar: Supporting People with I/DD to Identify Appropriate Housin
 g
END:VEVENT
END:VCALENDAR
