BEGIN:VCALENDAR
VERSION:2.0
PRODID:-//www.thearcfamilyinstitute.org//NONSGML kigkonsult.se iCalcreator 
 2.30.10//
CALSCALE:GREGORIAN
METHOD:PUBLISH
UID:906e8815-974f-4bfe-aadb-983573187461
X-WR-CALDESC:Neurotypical siblings of children and adults with behavioral a
 nd emotional challenges have unique needs and oftentimes parents and provi
 ders don’t\nknow what those needs are or how to address them. This present
 ation will provide:\n\nAn overview of how siblings often experience and pe
 rceive disability and mental health.\nAssistance to parents and providers 
 in recognizing the difficulties that can be present for siblings in their 
 various roles.\nWays to offer support to siblings.\nHow to present effecti
 ve strategies for initiating difficult conversations about different condi
 tions with children and teens.
X-WR-RELCALID:c217743142c26f383bc6def82417d9fc
X-WR-TIMEZONE:America/New_York
BEGIN:VTIMEZONE
TZID:America/New_York
BEGIN:STANDARD
TZNAME:EST
DTSTART:20151101T020000
TZOFFSETFROM:-0400
TZOFFSETTO:-0500
RDATE:20161106T020000
RDATE:20171105T020000
END:STANDARD
BEGIN:DAYLIGHT
TZNAME:EDT
DTSTART:20160313T020000
TZOFFSETFROM:-0500
TZOFFSETTO:-0400
RDATE:20170312T020000
RDATE:20180311T020000
END:DAYLIGHT
END:VTIMEZONE
BEGIN:VEVENT
UID:eb0beda0-9ecf-42af-929a-496bba39b2af
DTSTAMP:20260424T192048Z
DESCRIPTION:Neurotypical siblings of children and adults with behavioral an
 d emotional challenges have unique needs and oftentimes parents and provid
 ers don’t\nknow what those needs are or how to address them. This presenta
 tion will provide:\n\nAn overview of how siblings often experience and per
 ceive disability and mental health.\nAssistance to parents and providers i
 n recognizing the difficulties that can be present for siblings in their v
 arious roles.\nWays to offer support to siblings.\nHow to present effectiv
 e strategies for initiating difficult conversations about different condit
 ions with children and teens.
DTSTART;TZID=America/New_York:20161006T180000
DTEND;TZID=America/New_York:20161006T200000
LOCATION:Empower Family Success Center\, 34 West Main Street\, 2nd Floor\, 
 Somerville\, NJ
SUMMARY:Understanding and Supporting Siblings with emotional and Behavioral
  Challenges
END:VEVENT
END:VCALENDAR
