BEGIN:VCALENDAR
VERSION:2.0
PRODID:-//www.thearcfamilyinstitute.org//NONSGML kigkonsult.se iCalcreator 
 2.30.10//
CALSCALE:GREGORIAN
METHOD:PUBLISH
UID:a1947113-ff22-4474-8c38-be5dce435745
X-WR-CALDESC:During this two-hour training we will discuss:\n\n How to Com
 municate Effectively with Women with Developmental Disabilities Regarding 
 Abuse\n Identifying Types of Abuse\n Identifying Signs of Abuse\n Helpf
 ul Community Resources for Abuse Survivors\n Tabletop Scenarios
X-WR-RELCALID:f2c7b5d521903439001c47752f436713
X-WR-TIMEZONE:America/New_York
BEGIN:VTIMEZONE
TZID:America/New_York
BEGIN:STANDARD
TZNAME:EST
DTSTART:20151101T020000
TZOFFSETFROM:-0400
TZOFFSETTO:-0500
RDATE:20161106T020000
RDATE:20171105T020000
END:STANDARD
BEGIN:DAYLIGHT
TZNAME:EDT
DTSTART:20160313T020000
TZOFFSETFROM:-0500
TZOFFSETTO:-0400
RDATE:20170312T020000
RDATE:20180311T020000
END:DAYLIGHT
END:VTIMEZONE
BEGIN:VEVENT
UID:3cad8149-d9e8-4c44-8400-9f96360b4807
DTSTAMP:20260424T204056Z
DESCRIPTION:During this two-hour training we will discuss:\n\n How to Comm
 unicate Effectively with Women with Developmental Disabilities Regarding A
 buse\n Identifying Types of Abuse\n Identifying Signs of Abuse\n Helpfu
 l Community Resources for Abuse Survivors\n Tabletop Scenarios
DTSTART;TZID=America/New_York:20160929T123000
DTEND;TZID=America/New_York:20160929T143000
LOCATION:Middlesex County Fire Academy\, 1001 Fire Academy Dr.\, Sayreville
 \, NJ 08872
SUMMARY:Training: Addressing Violence Against Women With Developmental Disa
 bilities (Middlesex County)
END:VEVENT
END:VCALENDAR
