BEGIN:VCALENDAR
VERSION:2.0
PRODID:-//www.thearcfamilyinstitute.org//NONSGML kigkonsult.se iCalcreator 
 2.30.10//
CALSCALE:GREGORIAN
METHOD:PUBLISH
UID:f4617421-2371-4c6c-8d1e-bc096cc3c6de
X-WR-CALDESC:Join The Arc of New Jersey's Planning for Adult Life Program a
 s it discuss with a parent and professional in the field on how you can he
 lp prepare for life after your student leaves high school. They will share
  their own stories of success\, difficulties\, and lessons learned. This w
 ebinar is geared for students\, their families and professionals in the fi
 eld.
X-WR-RELCALID:5ee9d3de89bf8b709a587fa520fd6fde
X-WR-TIMEZONE:America/New_York
BEGIN:VTIMEZONE
TZID:America/New_York
BEGIN:STANDARD
TZNAME:EST
DTSTART:20151101T020000
TZOFFSETFROM:-0400
TZOFFSETTO:-0500
RDATE:20161106T020000
RDATE:20171105T020000
END:STANDARD
BEGIN:DAYLIGHT
TZNAME:EDT
DTSTART:20160313T020000
TZOFFSETFROM:-0500
TZOFFSETTO:-0400
RDATE:20170312T020000
RDATE:20180311T020000
END:DAYLIGHT
END:VTIMEZONE
BEGIN:VEVENT
UID:ca6362e4-ade5-42f3-a8b9-fed7e7d6101f
DTSTAMP:20260424T204212Z
DESCRIPTION:Join The Arc of New Jersey's Planning for Adult Life Program as
  it discuss with a parent and professional in the field on how you can hel
 p prepare for life after your student leaves high school. They will share 
 their own stories of success\, difficulties\, and lessons learned. This we
 binar is geared for students\, their families and professionals in the fie
 ld.
DTSTART;TZID=America/New_York:20160928T180000
DTEND;TZID=America/New_York:20160928T190000
LOCATION:
SUMMARY:Webinar: If I Knew Then What I Know Now: A Parent's Experience
END:VEVENT
END:VCALENDAR
