BEGIN:VCALENDAR
VERSION:2.0
PRODID:-//www.thearcfamilyinstitute.org//NONSGML kigkonsult.se iCalcreator 
 2.30.10//
CALSCALE:GREGORIAN
METHOD:PUBLISH
UID:dd0c45ce-368a-4df4-8ab0-c0674bb56984
X-WR-CALDESC:Family Support Organization Presents: Understanding Sexuality 
 in Youth with Intellectual and Developmental Disabilities: A Guide for Fam
 ilies' Presented by: Cheryl Crick Coordinator\, Family Advocacy and Advoca
 cy Services The Arc of New Jersey.\n\nSexual education encompasses many as
 pects of life\, such as anatomy\, health\, personal hygiene\, reproduction
 \, relationships\, and the expression of love. Sex education is needed by 
 all human beings including youth with intellectual and developmental disab
 ilities. Excluding youth with intellectual and developmental disabilities 
 from this important conversation can leave this population vulnerable to a
 buse. This workshop will discuss why educating youth with intellectual and
  developmental disabilities is so important\, barriers families face in di
 scussing sexuality\, solutions to those barriers\, and how disability may 
 affect sexuality.
X-WR-RELCALID:714e30f656d58e14363e2a8de40a2af4
X-WR-TIMEZONE:America/New_York
BEGIN:VTIMEZONE
TZID:America/New_York
BEGIN:STANDARD
TZNAME:EST
DTSTART:20151101T020000
TZOFFSETFROM:-0400
TZOFFSETTO:-0500
RDATE:20161106T020000
RDATE:20171105T020000
END:STANDARD
BEGIN:DAYLIGHT
TZNAME:EDT
DTSTART:20160313T020000
TZOFFSETFROM:-0500
TZOFFSETTO:-0400
RDATE:20170312T020000
RDATE:20180311T020000
END:DAYLIGHT
END:VTIMEZONE
BEGIN:VEVENT
UID:d79fa27a-0937-499e-836c-3bc94f5f33e1
DTSTAMP:20260424T204228Z
DESCRIPTION:Family Support Organization Presents: Understanding Sexuality i
 n Youth with Intellectual and Developmental Disabilities: A Guide for Fami
 lies' Presented by: Cheryl Crick Coordinator\, Family Advocacy and Advocac
 y Services The Arc of New Jersey.\n\nSexual education encompasses many asp
 ects of life\, such as anatomy\, health\, personal hygiene\, reproduction\
 , relationships\, and the expression of love. Sex education is needed by a
 ll human beings including youth with intellectual and developmental disabi
 lities. Excluding youth with intellectual and developmental disabilities f
 rom this important conversation can leave this population vulnerable to ab
 use. This workshop will discuss why educating youth with intellectual and 
 developmental disabilities is so important\, barriers families face in dis
 cussing sexuality\, solutions to those barriers\, and how disability may a
 ffect sexuality.
DTSTART;TZID=America/New_York:20160928T180000
DTEND;TZID=America/New_York:20160928T200000
LOCATION:REACH Beyond Therapy\, 466 Route 12\, Flemington\, NJ 08822
SUMMARY:Understanding Sexuality in Youth with Intellectual and Developmenta
 l Disabilities: A Guide for Families
END:VEVENT
END:VCALENDAR
