BEGIN:VCALENDAR
VERSION:2.0
PRODID:-//www.thearcfamilyinstitute.org//NONSGML kigkonsult.se iCalcreator 
 2.30.10//
CALSCALE:GREGORIAN
METHOD:PUBLISH
UID:9e59b9a2-9246-4f0f-84fc-e3812b92847b
X-WR-CALDESC:The ability to understand and communicate your needs and wants
  to others is a skill all people need. Individuals who know how to Self-Ad
 vocate are more likely to have a sense of control over their lives and fee
 l more confident and competent. Join The Arc of New Jersey Family Institut
 e as we discuss Self-Advocacy\, how to promote it and tips for increasing 
 parent and student involvement during an IEP meeting. \n\nAbout the Presen
 ter: \nLisa Ford is the Director of The Arc of New Jersey Family Institute
 .  Our goal is to help families find the tools and resources they need to 
 navigate the system of care. We will do this by providing advocacy and edu
 cation on services\, transition and system issues\, individual issues and 
 so much more.
X-WR-RELCALID:4934e4da727a4336636e2c526f1f1034
X-WR-TIMEZONE:America/New_York
BEGIN:VTIMEZONE
TZID:America/New_York
BEGIN:STANDARD
TZNAME:EST
DTSTART:20151101T020000
TZOFFSETFROM:-0400
TZOFFSETTO:-0500
RDATE:20161106T020000
RDATE:20171105T020000
END:STANDARD
BEGIN:DAYLIGHT
TZNAME:EDT
DTSTART:20160313T020000
TZOFFSETFROM:-0500
TZOFFSETTO:-0400
RDATE:20170312T020000
RDATE:20180311T020000
END:DAYLIGHT
END:VTIMEZONE
BEGIN:VEVENT
UID:30e277c9-eac8-41db-8135-b3d5446dc5e5
DTSTAMP:20260424T204208Z
DESCRIPTION:The ability to understand and communicate your needs and wants 
 to others is a skill all people need. Individuals who know how to Self-Adv
 ocate are more likely to have a sense of control over their lives and feel
  more confident and competent. Join The Arc of New Jersey Family Institute
  as we discuss Self-Advocacy\, how to promote it and tips for increasing p
 arent and student involvement during an IEP meeting. \n\nAbout the Present
 er: \nLisa Ford is the Director of The Arc of New Jersey Family Institute.
   Our goal is to help families find the tools and resources they need to n
 avigate the system of care. We will do this by providing advocacy and educ
 ation on services\, transition and system issues\, individual issues and s
 o much more.
DTSTART;TZID=America/New_York:20160927T180000
DTEND;TZID=America/New_York:20160927T190000
LOCATION:
SUMMARY:Webinar: Self Advocacy: An  Overview for Students\, Parents and Tea
 chers
END:VEVENT
END:VCALENDAR
