BEGIN:VCALENDAR
VERSION:2.0
PRODID:-//www.thearcfamilyinstitute.org//NONSGML kigkonsult.se iCalcreator 
 2.30.10//
CALSCALE:GREGORIAN
METHOD:PUBLISH
UID:3ae93057-3055-4306-ba75-b620683c79df
X-WR-CALDESC:Caring for a loved one can put a strain on even the most resil
 ient person. If you're a caregiver\, you must take steps to preserve your 
 own health and well-being. Join the Arc of New Jersey Family Institute and
  Bayada for a workshop designed to help you\, the caregiver\, learn differ
 ent ways to alleviate stress. \n\nPresenter: Dawn Mitten\, is a Massage Th
 erapist and Reiki Practioner. Dawn is also a parent with a Special needs c
 hild.
X-WR-RELCALID:ba717fa2a2363e09425117cec7a66e0a
X-WR-TIMEZONE:America/New_York
BEGIN:VTIMEZONE
TZID:America/New_York
BEGIN:STANDARD
TZNAME:EST
DTSTART:20151101T020000
TZOFFSETFROM:-0400
TZOFFSETTO:-0500
RDATE:20161106T020000
RDATE:20171105T020000
END:STANDARD
BEGIN:DAYLIGHT
TZNAME:EDT
DTSTART:20160313T020000
TZOFFSETFROM:-0500
TZOFFSETTO:-0400
RDATE:20170312T020000
RDATE:20180311T020000
END:DAYLIGHT
END:VTIMEZONE
BEGIN:VEVENT
UID:bbd36c2d-6612-4d9f-8d37-7ab707f8f58b
DTSTAMP:20260424T204209Z
DESCRIPTION:Caring for a loved one can put a strain on even the most resili
 ent person. If you're a caregiver\, you must take steps to preserve your o
 wn health and well-being. Join the Arc of New Jersey Family Institute and 
 Bayada for a workshop designed to help you\, the caregiver\, learn differe
 nt ways to alleviate stress. \n\nPresenter: Dawn Mitten\, is a Massage The
 rapist and Reiki Practioner. Dawn is also a parent with a Special needs ch
 ild.
DTSTART;TZID=America/New_York:20160924T100000
DTEND;TZID=America/New_York:20160924T120000
LOCATION:The Arc of Somerset\, Camplain Road ATC\, 2320 Camplain Road\, Hil
 lsborough\, 08844
SUMMARY:Caring For YOU! A Stress Management and Alternative Options - Somer
 set County
END:VEVENT
END:VCALENDAR
