BEGIN:VCALENDAR
VERSION:2.0
PRODID:-//www.thearcfamilyinstitute.org//NONSGML kigkonsult.se iCalcreator 
 2.30.10//
CALSCALE:GREGORIAN
METHOD:PUBLISH
UID:358f8f35-8eab-4ae6-b61a-2f3b2a44e394
X-WR-CALDESC:The majority of adults with IDD live at home with their famili
 es\, and this is particularly true for adults with IDD from diverse backgr
 ounds. Some research suggests that adults with IDD who live in the communi
 ty face many health challenges compared to those in residential settings. 
 In this webinar Dr. Magaña will present research on health outcomes of Afr
 ican American and Latino parental caregivers\, and on racial and ethnic di
 sparities on health outcomes among adults with IDD. She will discuss polic
 y and community based interventions to address these disparities with a fo
 cus on how agencies serving IDD can address the health of families of pers
 ons with IDD. \n\nSandy Magaña\, PhD\, MSW\, is a professor in Disability 
 and Human Development at the University of Illinois at Chicago. She has be
 en a leader in investigating racial and ethnic disparities among children 
 with autism and developmental disabilities and among their family caregive
 rs. uilding on this research\, Magaña has developed culturally relevant in
 terventions to address these disparities\, bringing the Promotora de Salud
  (community health worker) model to the disability world. Once such projec
 t is aimed at addressing health behaviors and needs of caregivers of child
 ren and adults with developmental disabilities. She is also director of th
 e newly established Family Support Research and Training Center (FSRTC).
X-WR-RELCALID:a51d83aac3f50a4a93fd6cdc702279c0
X-WR-TIMEZONE:America/New_York
BEGIN:VTIMEZONE
TZID:America/New_York
BEGIN:STANDARD
TZNAME:EST
DTSTART:20151101T020000
TZOFFSETFROM:-0400
TZOFFSETTO:-0500
RDATE:20161106T020000
RDATE:20171105T020000
END:STANDARD
BEGIN:DAYLIGHT
TZNAME:EDT
DTSTART:20160313T020000
TZOFFSETFROM:-0500
TZOFFSETTO:-0400
RDATE:20170312T020000
RDATE:20180311T020000
END:DAYLIGHT
END:VTIMEZONE
BEGIN:VEVENT
UID:3298bc1a-7544-4cdf-ad9c-da2bc5afa19d
DTSTAMP:20260424T204346Z
DESCRIPTION:The majority of adults with IDD live at home with their familie
 s\, and this is particularly true for adults with IDD from diverse backgro
 unds. Some research suggests that adults with IDD who live in the communit
 y face many health challenges compared to those in residential settings. I
 n this webinar Dr. Magaña will present research on health outcomes of Afri
 can American and Latino parental caregivers\, and on racial and ethnic dis
 parities on health outcomes among adults with IDD. She will discuss policy
  and community based interventions to address these disparities with a foc
 us on how agencies serving IDD can address the health of families of perso
 ns with IDD. \n\nSandy Magaña\, PhD\, MSW\, is a professor in Disability a
 nd Human Development at the University of Illinois at Chicago. She has bee
 n a leader in investigating racial and ethnic disparities among children w
 ith autism and developmental disabilities and among their family caregiver
 s. uilding on this research\, Magaña has developed culturally relevant int
 erventions to address these disparities\, bringing the Promotora de Salud 
 (community health worker) model to the disability world. Once such project
  is aimed at addressing health behaviors and needs of caregivers of childr
 en and adults with developmental disabilities. She is also director of the
  newly established Family Support Research and Training Center (FSRTC).
DTSTART;TZID=America/New_York:20160922T150000
DTEND;TZID=America/New_York:20160922T160000
LOCATION:
SUMMARY:Webinar: Racial and Ethnic Disparities Among Adults with I/DD & The
 ir Family Caregivers
END:VEVENT
END:VCALENDAR
