BEGIN:VCALENDAR
VERSION:2.0
PRODID:-//www.thearcfamilyinstitute.org//NONSGML kigkonsult.se iCalcreator 
 2.30.10//
CALSCALE:GREGORIAN
METHOD:PUBLISH
UID:0558d7eb-62fc-4983-b83f-24b81083ce5e
X-WR-CALDESC:Get informed so you can be the best possible advocate for your
  sibling! Join The Arc’s National Center on Criminal Justice and Disabilit
 y® (NCCJD) as they delve into the world of competency in the criminal just
 ice system. Hear from some of the authors from the NCCJD competency white 
 paper discuss topics such as competency to stand trial\, competency to wai
 ve Miranda rights\, and the impact of guardianship and supported decision 
 making on defendants in the criminal justice system.
X-WR-RELCALID:4d1683ed76fe70330ace2aa371097c23
X-WR-TIMEZONE:America/New_York
BEGIN:VTIMEZONE
TZID:America/New_York
BEGIN:STANDARD
TZNAME:EST
DTSTART:20151101T020000
TZOFFSETFROM:-0400
TZOFFSETTO:-0500
RDATE:20161106T020000
RDATE:20171105T020000
END:STANDARD
BEGIN:DAYLIGHT
TZNAME:EDT
DTSTART:20160313T020000
TZOFFSETFROM:-0500
TZOFFSETTO:-0400
RDATE:20170312T020000
RDATE:20180311T020000
END:DAYLIGHT
END:VTIMEZONE
BEGIN:VEVENT
UID:ee3eba51-8840-4554-aaea-18f0847c0fc2
DTSTAMP:20260424T204307Z
DESCRIPTION:Get informed so you can be the best possible advocate for your 
 sibling! Join The Arc’s National Center on Criminal Justice and Disability
 ® (NCCJD) as they delve into the world of competency in the criminal justi
 ce system. Hear from some of the authors from the NCCJD competency white p
 aper discuss topics such as competency to stand trial\, competency to waiv
 e Miranda rights\, and the impact of guardianship and supported decision m
 aking on defendants in the criminal justice system.
DTSTART;TZID=America/New_York:20160922T130000
DTEND;TZID=America/New_York:20160922T150000
LOCATION:
SUMMARY:Webinar: Competency of Individuals with I/DD in the Criminal Justic
 e System: A Call to Action for the Criminal Justice Community
END:VEVENT
END:VCALENDAR
