BEGIN:VCALENDAR
VERSION:2.0
PRODID:-//www.thearcfamilyinstitute.org//NONSGML kigkonsult.se iCalcreator 
 2.30.10//
CALSCALE:GREGORIAN
METHOD:PUBLISH
UID:97fdbdac-6e0d-4089-aa9b-6c062e3214ce
X-WR-CALDESC:
X-WR-RELCALID:aa010ecf835f771470a95da8fb79d5ee
X-WR-TIMEZONE:America/New_York
BEGIN:VTIMEZONE
TZID:America/New_York
BEGIN:STANDARD
TZNAME:EST
DTSTART:20151101T020000
TZOFFSETFROM:-0400
TZOFFSETTO:-0500
RDATE:20161106T020000
RDATE:20171105T020000
END:STANDARD
BEGIN:DAYLIGHT
TZNAME:EDT
DTSTART:20160313T020000
TZOFFSETFROM:-0500
TZOFFSETTO:-0400
RDATE:20170312T020000
RDATE:20180311T020000
END:DAYLIGHT
END:VTIMEZONE
BEGIN:VEVENT
UID:421ee0b8-630e-4ce2-bb61-1cc4a92c6904
DTSTAMP:20260424T204225Z
DESCRIPTION:
DTSTART;TZID=America/New_York:20160922T180000
DTEND;TZID=America/New_York:20160922T200000
LOCATION:92 West Main Street\, Freehold\, 07728
SUMMARY:Family Justice Series: What Every Family Should Know
END:VEVENT
END:VCALENDAR
