BEGIN:VCALENDAR
VERSION:2.0
PRODID:-//www.thearcfamilyinstitute.org//NONSGML kigkonsult.se iCalcreator 
 2.30.10//
CALSCALE:GREGORIAN
METHOD:PUBLISH
UID:d19a32b6-3ec8-48ed-8985-16a30b545b34
X-WR-CALDESC:During this two-hour training we will discuss:\n\n How to Com
 municate Effectively with Women with Developmental Disabilities Regarding 
 Abuse\n Identifying Types of Abuse\n Identifying Signs of Abuse\n Helpf
 ul Community Resources for Abuse Survivors\n Tabletop Scenarios
X-WR-RELCALID:02c1b2182d6163a9babbb45dc2adef75
X-WR-TIMEZONE:America/New_York
BEGIN:VTIMEZONE
TZID:America/New_York
BEGIN:STANDARD
TZNAME:EST
DTSTART:20151101T020000
TZOFFSETFROM:-0400
TZOFFSETTO:-0500
RDATE:20161106T020000
RDATE:20171105T020000
END:STANDARD
BEGIN:DAYLIGHT
TZNAME:EDT
DTSTART:20160313T020000
TZOFFSETFROM:-0500
TZOFFSETTO:-0400
RDATE:20170312T020000
RDATE:20180311T020000
END:DAYLIGHT
END:VTIMEZONE
BEGIN:VEVENT
UID:7e922ed6-9a69-48b9-b999-f25c834a8029
DTSTAMP:20260424T204202Z
DESCRIPTION:During this two-hour training we will discuss:\n\n How to Comm
 unicate Effectively with Women with Developmental Disabilities Regarding A
 buse\n Identifying Types of Abuse\n Identifying Signs of Abuse\n Helpfu
 l Community Resources for Abuse Survivors\n Tabletop Scenarios
DTSTART;TZID=America/New_York:20160920T110000
DTEND;TZID=America/New_York:20160920T130000
LOCATION:Morris County Public Safety Training Academy\, 500 W Hanover Ave. 
 Morristown\, NJ 07960
SUMMARY:Training: Addressing Violence Against Women With Developmental Disa
 bilities (Morris County)
END:VEVENT
END:VCALENDAR
