BEGIN:VCALENDAR
VERSION:2.0
PRODID:-//www.thearcfamilyinstitute.org//NONSGML kigkonsult.se iCalcreator 
 2.30.10//
CALSCALE:GREGORIAN
METHOD:PUBLISH
UID:fbe65dc1-4959-46c1-bbe9-d55406ace6e2
X-WR-CALDESC:Families with children and other dependents with special needs
 \, no matter what their age or disability\, face many serious questions ab
 out how to best prepare for their future well-being.\nThis workshop addres
 ses:\n\n Protecting SSI (Supplemental Security Income)\n Creating a Spec
 ial Needs Trusts\n The ABLE ACT and tax free savings accounts
X-WR-RELCALID:a67c08cad5faad006e1535923acbf3bb
X-WR-TIMEZONE:America/New_York
BEGIN:VTIMEZONE
TZID:America/New_York
BEGIN:STANDARD
TZNAME:EST
DTSTART:20151101T020000
TZOFFSETFROM:-0400
TZOFFSETTO:-0500
RDATE:20161106T020000
RDATE:20171105T020000
END:STANDARD
BEGIN:DAYLIGHT
TZNAME:EDT
DTSTART:20160313T020000
TZOFFSETFROM:-0500
TZOFFSETTO:-0400
RDATE:20170312T020000
RDATE:20180311T020000
END:DAYLIGHT
END:VTIMEZONE
BEGIN:VEVENT
UID:9155b349-3ee0-45b3-a5c8-0187fd970c61
DTSTAMP:20260424T204210Z
DESCRIPTION:Families with children and other dependents with special needs\
 , no matter what their age or disability\, face many serious questions abo
 ut how to best prepare for their future well-being.\nThis workshop address
 es:\n\n Protecting SSI (Supplemental Security Income)\n Creating a Speci
 al Needs Trusts\n The ABLE ACT and tax free savings accounts
DTSTART;TZID=America/New_York:20160920T180000
DTEND;TZID=America/New_York:20160920T190000
LOCATION:Arc Kohler School\, Arc Kohler School 1137 Globe Ave\, Mountainsid
 e\, NJ 07092
SUMMARY:The Arc Kohler School:Financial Planning for a Special Needs Child
END:VEVENT
END:VCALENDAR
