BEGIN:VCALENDAR
VERSION:2.0
PRODID:-//www.thearcfamilyinstitute.org//NONSGML kigkonsult.se iCalcreator 
 2.30.10//
CALSCALE:GREGORIAN
METHOD:PUBLISH
UID:556fdef3-10ef-42cc-b636-8640592abd3b
X-WR-CALDESC:The majority of children and adults with I/DD live with their 
 families. This is especially true for people with I/DD from Latino and oth
 er minority households. The primary caregivers in these households\, who a
 re usually mothers\, face significant challenges with their own emotional 
 and physical health. Furthermore\, research suggests that lifelong caregiv
 ing exacerbates already existing health disparities that Latina women face
 . Effective practical interventions that promote healthy lifestyle behavio
 rs and well-being among caregiving mothers are needed. In this webinar hos
 ted by The Arc’s Center for Future Planning®\, Sandy Magaña\, Miguel Moral
 es\, and Judith Rocha will present information about an evidenced-based in
 tervention\, “By Caring for Myself\, I Can Care Better for My Family.” Thi
 s intervention engages community health workers who are also family caregi
 vers of persons with I/DD to deliver the curriculum. They will discuss cul
 tural aspects and other components of the intervention\, how to set up a s
 imilar project in your area\, and how to adapt it to other cultural groups
 .
X-WR-RELCALID:8b7e8b491bb8656d9cb885be8d713004
X-WR-TIMEZONE:America/New_York
BEGIN:VTIMEZONE
TZID:America/New_York
BEGIN:STANDARD
TZNAME:EST
DTSTART:20151101T020000
TZOFFSETFROM:-0400
TZOFFSETTO:-0500
RDATE:20161106T020000
RDATE:20171105T020000
END:STANDARD
BEGIN:DAYLIGHT
TZNAME:EDT
DTSTART:20160313T020000
TZOFFSETFROM:-0500
TZOFFSETTO:-0400
RDATE:20170312T020000
RDATE:20180311T020000
END:DAYLIGHT
END:VTIMEZONE
BEGIN:VEVENT
UID:e960853c-6ea3-412a-9d75-2f760641465b
DTSTAMP:20260424T204350Z
DESCRIPTION:The majority of children and adults with I/DD live with their f
 amilies. This is especially true for people with I/DD from Latino and othe
 r minority households. The primary caregivers in these households\, who ar
 e usually mothers\, face significant challenges with their own emotional a
 nd physical health. Furthermore\, research suggests that lifelong caregivi
 ng exacerbates already existing health disparities that Latina women face.
  Effective practical interventions that promote healthy lifestyle behavior
 s and well-being among caregiving mothers are needed. In this webinar host
 ed by The Arc’s Center for Future Planning®\, Sandy Magaña\, Miguel Morale
 s\, and Judith Rocha will present information about an evidenced-based int
 ervention\, “By Caring for Myself\, I Can Care Better for My Family.” This
  intervention engages community health workers who are also family caregiv
 ers of persons with I/DD to deliver the curriculum. They will discuss cult
 ural aspects and other components of the intervention\, how to set up a si
 milar project in your area\, and how to adapt it to other cultural groups.
DTSTART;TZID=America/New_York:20160914T140000
DTEND;TZID=America/New_York:20160914T150000
LOCATION:
SUMMARY:Webinar: Caring for Myself”- A Health Promotion Program for Family 
 Caregivers of Persons with I/DD
END:VEVENT
END:VCALENDAR
