BEGIN:VCALENDAR
VERSION:2.0
PRODID:-//www.thearcfamilyinstitute.org//NONSGML kigkonsult.se iCalcreator 
 2.30.10//
CALSCALE:GREGORIAN
METHOD:PUBLISH
UID:74ee5cff-417d-4554-ba84-cd6b507b2792
X-WR-CALDESC:Starting school\, moving and other stressful life events may t
 rigger the onset of school refusal. Join The Arc of New Jersey Family Inst
 itute as we discuss the trigger\, symptoms\, and ways parents and caregive
 rs can help support the child through their anxiety.\n\nPresenter: PJ Weng
 er\, LPC\, MFT\, NCC has 17 years experience working in the field of menta
 l health. She has spent considerable time in a variety of settings develop
 ing her counseling experience. These settings include psychiatric emergenc
 y\, inpatient treatment with both adults and children\, home care for ment
 al health issues\, residential treatment\, schools and private practice.
X-WR-RELCALID:420b2d59a20d1d2b250ac443267d2000
X-WR-TIMEZONE:America/New_York
BEGIN:VTIMEZONE
TZID:America/New_York
BEGIN:STANDARD
TZNAME:EST
DTSTART:20151101T020000
TZOFFSETFROM:-0400
TZOFFSETTO:-0500
RDATE:20161106T020000
RDATE:20171105T020000
END:STANDARD
BEGIN:DAYLIGHT
TZNAME:EDT
DTSTART:20160313T020000
TZOFFSETFROM:-0500
TZOFFSETTO:-0400
RDATE:20170312T020000
END:DAYLIGHT
END:VTIMEZONE
BEGIN:VEVENT
UID:73a11880-7991-4fc4-b9ce-9973795f690f
DTSTAMP:20260424T220444Z
DESCRIPTION:Starting school\, moving and other stressful life events may tr
 igger the onset of school refusal. Join The Arc of New Jersey Family Insti
 tute as we discuss the trigger\, symptoms\, and ways parents and caregiver
 s can help support the child through their anxiety.\n\nPresenter: PJ Wenge
 r\, LPC\, MFT\, NCC has 17 years experience working in the field of mental
  health. She has spent considerable time in a variety of settings developi
 ng her counseling experience. These settings include psychiatric emergency
 \, inpatient treatment with both adults and children\, home care for menta
 l health issues\, residential treatment\, schools and private practice.
DTSTART;TZID=America/New_York:20160811T180000
DTEND;TZID=America/New_York:20160811T190000
LOCATION:
SUMMARY:Webinar: School Anxiety and Refusal in Children with Intellectual a
 nd Developmental Disabilities
END:VEVENT
END:VCALENDAR
