BEGIN:VCALENDAR
VERSION:2.0
PRODID:-//www.thearcfamilyinstitute.org//NONSGML kigkonsult.se iCalcreator 
 2.30.10//
CALSCALE:GREGORIAN
METHOD:PUBLISH
UID:0d5b0392-7796-4816-b243-e91831e1d26f
X-WR-CALDESC:The Long Branch Concordance Family Success Center proudly anno
 unces it's 8th Annual Back to School Health Fair!
X-WR-RELCALID:c780dfedd943d6d4c282daa756f61966
X-WR-TIMEZONE:America/New_York
BEGIN:VTIMEZONE
TZID:America/New_York
BEGIN:STANDARD
TZNAME:EST
DTSTART:20151101T020000
TZOFFSETFROM:-0400
TZOFFSETTO:-0500
RDATE:20161106T020000
RDATE:20171105T020000
END:STANDARD
BEGIN:DAYLIGHT
TZNAME:EDT
DTSTART:20160313T020000
TZOFFSETFROM:-0500
TZOFFSETTO:-0400
RDATE:20170312T020000
END:DAYLIGHT
END:VTIMEZONE
BEGIN:VEVENT
UID:77b72ce3-11d0-4bda-9760-9d9c388110ce
DTSTAMP:20260424T220659Z
DESCRIPTION:The Long Branch Concordance Family Success Center proudly annou
 nces it's 8th Annual Back to School Health Fair!
DTSTART;TZID=America/New_York:20160811T100000
DTEND;TZID=America/New_York:20160811T130000
LOCATION:300 Broadway(rear entrance) Long Branch NJ 07740
SUMMARY:Back To School Health Fair
END:VEVENT
END:VCALENDAR
