BEGIN:VCALENDAR
VERSION:2.0
PRODID:-//www.thearcfamilyinstitute.org//NONSGML kigkonsult.se iCalcreator 
 2.30.10//
CALSCALE:GREGORIAN
METHOD:PUBLISH
UID:e941a2f0-3e9c-4e76-85d0-82c28c4a940f
X-WR-CALDESC:Get ready to picnic\, dance\, swim & socialize at our Annual P
 ool Party and Barbecue sponsored by the Mt. Holly Elks #848. The party tak
 es place on\nSaturday\, August 6 st\, 2016\, from 11 a.m. -2 p.m. (with th
 e rain date of Sunday\, August 7 th. See NOTE about weather cancellations.
 )\n\nBe sure to bring your bathing suit\, towel\, a chair (since seating i
 s limited)\, and sunscreen. Admission is $4.00 and includes the barbecue l
 unch\, beverage\, use of the pool and picnic grounds\, and dancing to the 
 top hits from our favorite DJs.\n\nAs always\, anyone requiring assistance
  must be accompanied by a responsible adult\, and all participants must ha
 ve a current emergency medical form on file. (You can get one at the party
 .) We must be able to contact parents or guardians at all times for unacco
 mpanied participants. \n\nYou MUST call Donna for reservations by July 31s
 t at 856-985-7345 and leave a message. The Elks need an accurate count so 
 they can plan for food.\n
X-WR-RELCALID:703cabd9abcb736dab34b4e2d760b123
X-WR-TIMEZONE:America/New_York
BEGIN:VTIMEZONE
TZID:America/New_York
BEGIN:STANDARD
TZNAME:EST
DTSTART:20151101T020000
TZOFFSETFROM:-0400
TZOFFSETTO:-0500
RDATE:20161106T020000
RDATE:20171105T020000
END:STANDARD
BEGIN:DAYLIGHT
TZNAME:EDT
DTSTART:20160313T020000
TZOFFSETFROM:-0500
TZOFFSETTO:-0400
RDATE:20170312T020000
END:DAYLIGHT
END:VTIMEZONE
BEGIN:VEVENT
UID:de9d832f-9992-48fd-adb8-d3d83de279b6
DTSTAMP:20260424T215713Z
DESCRIPTION:Get ready to picnic\, dance\, swim & socialize at our Annual Po
 ol Party and Barbecue sponsored by the Mt. Holly Elks #848. The party take
 s place on\nSaturday\, August 6 st\, 2016\, from 11 a.m. -2 p.m. (with the
  rain date of Sunday\, August 7 th. See NOTE about weather cancellations.)
 \n\nBe sure to bring your bathing suit\, towel\, a chair (since seating is
  limited)\, and sunscreen. Admission is $4.00 and includes the barbecue lu
 nch\, beverage\, use of the pool and picnic grounds\, and dancing to the t
 op hits from our favorite DJs.\n\nAs always\, anyone requiring assistance 
 must be accompanied by a responsible adult\, and all participants must hav
 e a current emergency medical form on file. (You can get one at the party.
 ) We must be able to contact parents or guardians at all times for unaccom
 panied participants. \n\nYou MUST call Donna for reservations by July 31st
  at 856-985-7345 and leave a message. The Elks need an accurate count so t
 hey can plan for food.\n
DTSTART;TZID=America/New_York:20160806T110000
DTEND;TZID=America/New_York:20160806T140000
LOCATION:Learn-A-Way site\, 1015 Deacon Road\, Hainesport\, NJ
SUMMARY:The Arc of Burlington County: DANCE\, POOL PARTY & BARBECUE
END:VEVENT
END:VCALENDAR
