BEGIN:VCALENDAR
VERSION:2.0
PRODID:-//www.thearcfamilyinstitute.org//NONSGML kigkonsult.se iCalcreator 
 2.30.10//
CALSCALE:GREGORIAN
METHOD:PUBLISH
UID:e96e3edc-412d-4ccd-aa48-c30b38c9e743
X-WR-CALDESC:This webinar will discuss a variety of avenues that can be exp
 lored to assist in building and maintaining social skills for children and
  adults with intellectual and developmental disabilities. The presenter wi
 ll also discuss how to find these opportunities in the community.\n\nAbout
  the Presenter: Annette L Becklund is the director and owner of Annette L 
 Becklund\, MSW\, LCSW & Associates LLC. Annette's practice  specializes in
  Autism\, Asperger's\, Developmental Differences and all unique ways of be
 ing.  Individual therapy\, group social skills therapy for adults and kids
 \, family therapy\, trauma therapy\, special interest clubs\, Adult Autism
  and Asperger's Evaluations\, Professional Development programs\, Consulta
 tions\, and more are available.
X-WR-RELCALID:17f670ddb51b0756e55921b34daa26ae
X-WR-TIMEZONE:America/New_York
BEGIN:VTIMEZONE
TZID:America/New_York
BEGIN:STANDARD
TZNAME:EST
DTSTART:20151101T020000
TZOFFSETFROM:-0400
TZOFFSETTO:-0500
RDATE:20161106T020000
RDATE:20171105T020000
END:STANDARD
BEGIN:DAYLIGHT
TZNAME:EDT
DTSTART:20160313T020000
TZOFFSETFROM:-0500
TZOFFSETTO:-0400
RDATE:20170312T020000
END:DAYLIGHT
END:VTIMEZONE
BEGIN:VEVENT
UID:ae9c5c92-4331-4f6d-9254-9e935ae12121
DTSTAMP:20260424T230156Z
DESCRIPTION:This webinar will discuss a variety of avenues that can be expl
 ored to assist in building and maintaining social skills for children and 
 adults with intellectual and developmental disabilities. The presenter wil
 l also discuss how to find these opportunities in the community.\n\nAbout 
 the Presenter: Annette L Becklund is the director and owner of Annette L B
 ecklund\, MSW\, LCSW & Associates LLC. Annette's practice  specializes in 
 Autism\, Asperger's\, Developmental Differences and all unique ways of bei
 ng.  Individual therapy\, group social skills therapy for adults and kids\
 , family therapy\, trauma therapy\, special interest clubs\, Adult Autism 
 and Asperger's Evaluations\, Professional Development programs\, Consultat
 ions\, and more are available.
DTSTART;TZID=America/New_York:20160720T120000
DTEND;TZID=America/New_York:20160720T130000
LOCATION:
SUMMARY:Webinar: Supporting Students with  Intellectual and  Developmental 
 Differences Build Social Skills
END:VEVENT
END:VCALENDAR
