BEGIN:VCALENDAR
VERSION:2.0
PRODID:-//www.thearcfamilyinstitute.org//NONSGML kigkonsult.se iCalcreator 
 2.30.10//
CALSCALE:GREGORIAN
METHOD:PUBLISH
UID:51c364e5-e045-4347-8b88-78c05b0057ad
X-WR-CALDESC:This workshop will focus on helping parents and professionals 
 “create agreement” and avoid\, minimize\, or appropriately address\, confl
 ict in the IFSP and IEP process. Participants will explore the benefits an
 d challenges of parent professional collaboration\, learn best practices f
 or creating agreement\, address power imbalances and implement cultural re
 ciprocity. Individuals will learn how to “create agreement” with others in
  your district.
X-WR-RELCALID:3fd5f5d5ebc723a351b69d30c89c70dd
X-WR-TIMEZONE:America/New_York
BEGIN:VTIMEZONE
TZID:America/New_York
BEGIN:STANDARD
TZNAME:EST
DTSTART:20151101T020000
TZOFFSETFROM:-0400
TZOFFSETTO:-0500
RDATE:20161106T020000
RDATE:20171105T020000
END:STANDARD
BEGIN:DAYLIGHT
TZNAME:EDT
DTSTART:20160313T020000
TZOFFSETFROM:-0500
TZOFFSETTO:-0400
RDATE:20170312T020000
END:DAYLIGHT
END:VTIMEZONE
BEGIN:VEVENT
UID:3a1312ef-c9e5-42c9-9439-506e675e4aa8
DTSTAMP:20260424T230709Z
DESCRIPTION:This workshop will focus on helping parents and professionals “
 create agreement” and avoid\, minimize\, or appropriately address\, confli
 ct in the IFSP and IEP process. Participants will explore the benefits and
  challenges of parent professional collaboration\, learn best practices fo
 r creating agreement\, address power imbalances and implement cultural rec
 iprocity. Individuals will learn how to “create agreement” with others in 
 your district.
DTSTART;TZID=America/New_York:20160719T183000
DTEND;TZID=America/New_York:20160719T200000
LOCATION:Arc Kohler School\, Arc Kohler School 1137 Globe Ave\, Mountainsid
 e\, NJ 07092
SUMMARY:The Arc Kohler School: Creating Agreement: Working Together to Reso
 lve Conflict within the IEP
END:VEVENT
END:VCALENDAR
