BEGIN:VCALENDAR
VERSION:2.0
PRODID:-//www.thearcfamilyinstitute.org//NONSGML kigkonsult.se iCalcreator 
 2.30.10//
CALSCALE:GREGORIAN
METHOD:PUBLISH
UID:edcb1772-c070-4034-896a-637a0e2a7794
X-WR-CALDESC:Join us on Monday\, June 27th for The Arc of Essex Countyâ€™s An
 nual Membership Meeting to learn how to choose and use a support coordinat
 or that is right for you. As part of the stateâ€™s transition to fee-for-ser
 vice\, all individuals receiving DDD services who live at home will be mov
 ed into the support coordination model.\n\nThe Arc of Essex Countyâ€™s CEO L
 inda Lucas will review the state of the fee-for-service transition while D
 irector of Business Development Melissa Soules will provide families with 
 an overview of support coordination considerations. You will learn about:
 \nânâ The roles of the support coordinator and service provider\nâ€¢ Picking t
 he right support coordination agency for you\nâ€¢ Preparations necessary for
  your initial meeting\nâ€¢ Maintaining positive communication to ensure your
  service needs are met\nâ€¢ Maximizing the scope of support coordination sup
 ports\n\nFamilies new to the support coordination process and families alr
 eady working with a support coordinator should attend this session. To reg
 ister for the Annual Membership Meeting\, contact Brielle Cummings at bcum
 mings@arcessex.org or (973) 535-1181 ext. 1227 by Monday\, June 20.\n\n**R
 espite care will be available during this meeting - please note your respi
 te care needs when you RSVP.
X-WR-RELCALID:6e2bd7e365dbcbbef3e5582bab2803e4
X-WR-TIMEZONE:America/New_York
BEGIN:VTIMEZONE
TZID:America/New_York
BEGIN:STANDARD
TZNAME:EST
DTSTART:20151101T020000
TZOFFSETFROM:-0400
TZOFFSETTO:-0500
RDATE:20161106T020000
RDATE:20171105T020000
END:STANDARD
BEGIN:DAYLIGHT
TZNAME:EDT
DTSTART:20160313T020000
TZOFFSETFROM:-0500
TZOFFSETTO:-0400
RDATE:20170312T020000
END:DAYLIGHT
END:VTIMEZONE
BEGIN:VEVENT
UID:a9db4eb7-e076-44e5-851c-3ed3cd141b73
DTSTAMP:20260425T001648Z
DESCRIPTION:Join us on Monday\, June 27th for The Arc of Essex Countyâ€™s Ann
 ual Membership Meeting to learn how to choose and use a support coordinato
 r that is right for you. As part of the stateâ€™s transition to fee-for-serv
 ice\, all individuals receiving DDD services who live at home will be move
 d into the support coordination model.\n\nThe Arc of Essex Countyâ€™s CEO Li
 nda Lucas will review the state of the fee-for-service transition while Di
 rector of Business Development Melissa Soules will provide families with a
 n overview of support coordination considerations. You will learn about:\n
 â€¢ The roles of the support coordinator and service provider\nâ€¢ Picking the
  right support coordination agency for you\nâ€¢ Preparations necessary for y
 our initial meeting\nâ€¢ Maintaining positive communication to ensure your s
 ervice needs are met\nâ€¢ Maximizing the scope of support coordination suppo
 rts\n\nFamilies new to the support coordination process and families alrea
 dy working with a support coordinator should attend this session. To regis
 ter for the Annual Membership Meeting\, contact Brielle Cummings at bcummi
 ngs@arcessex.org or (973) 535-1181 ext. 1227 by Monday\, June 20.\n\n**Res
 pite care will be available during this meeting - please note your respite
  care needs when you RSVP.
DTSTART;TZID=America/New_York:20160627T190000
DTEND;TZID=America/New_York:20160627T203000
LOCATION:The Arc of Essex Countyâ€™s Main Office 123 Naylon Avenue Livingston
 \, NJ 07039
SUMMARY:The Arc of Essex: Annual Membership Meeting
END:VEVENT
END:VCALENDAR
