BEGIN:VCALENDAR
VERSION:2.0
PRODID:-//www.thearcfamilyinstitute.org//NONSGML kigkonsult.se iCalcreator 
 2.30.10//
CALSCALE:GREGORIAN
METHOD:PUBLISH
UID:f7822222-0e1c-44df-bd5d-2356b6c005c1
X-WR-CALDESC:Caring for a loved one can put a strain on even the most resil
 ient person. If you're a caregiver\, you must take steps to preserve your 
 own health and well-being. Join the Arc of New Jersey Family Institute and
  The Arc of Union for a workshop designed to help you\, the caregiver\, le
 arn different ways to alleviate stress. \n\nPresenter: Dawn Mitten A paren
 t\, A licensed Massage therapist and Reiki Practioner
X-WR-RELCALID:93a940deeb972124761c76f11fdb9ab5
X-WR-TIMEZONE:America/New_York
BEGIN:VTIMEZONE
TZID:America/New_York
BEGIN:STANDARD
TZNAME:EST
DTSTART:20151101T020000
TZOFFSETFROM:-0400
TZOFFSETTO:-0500
RDATE:20161106T020000
RDATE:20171105T020000
END:STANDARD
BEGIN:DAYLIGHT
TZNAME:EDT
DTSTART:20160313T020000
TZOFFSETFROM:-0500
TZOFFSETTO:-0400
RDATE:20170312T020000
END:DAYLIGHT
END:VTIMEZONE
BEGIN:VEVENT
UID:a70ad594-1bf8-4c75-b2f0-13ce86bbde91
DTSTAMP:20260425T000830Z
DESCRIPTION:Caring for a loved one can put a strain on even the most resili
 ent person. If you're a caregiver\, you must take steps to preserve your o
 wn health and well-being. Join the Arc of New Jersey Family Institute and 
 The Arc of Union for a workshop designed to help you\, the caregiver\, lea
 rn different ways to alleviate stress. \n\nPresenter: Dawn Mitten A parent
 \, A licensed Massage therapist and Reiki Practioner
DTSTART;TZID=America/New_York:20160623T180000
DTEND;TZID=America/New_York:20160623T191500
LOCATION:The Arc of Union\, The Arc Family Center\, 1137 Globe Avenue\, Mou
 ntainside\, NJ 07092
SUMMARY:Caring For Yourself: Stress Management and Alternative Options
END:VEVENT
END:VCALENDAR
